BEGIN:VCALENDAR
VERSION:2.0
PRODID:-//Be the Medicine - ECPv6.15.20//NONSGML v1.0//EN
CALSCALE:GREGORIAN
METHOD:PUBLISH
X-WR-CALNAME:Be the Medicine
X-ORIGINAL-URL:https://bethemedicine.com
X-WR-CALDESC:Events for Be the Medicine
REFRESH-INTERVAL;VALUE=DURATION:PT1H
X-Robots-Tag:noindex
X-PUBLISHED-TTL:PT1H
BEGIN:VTIMEZONE
TZID:UTC
BEGIN:STANDARD
TZOFFSETFROM:+0000
TZOFFSETTO:+0000
TZNAME:UTC
DTSTART:20200101T000000
END:STANDARD
END:VTIMEZONE
BEGIN:VEVENT
DTSTART;TZID=UTC:20210511T190000
DTEND;TZID=UTC:20210511T200000
DTSTAMP:20260421T192705
CREATED:20210416T155617Z
LAST-MODIFIED:20210416T160451Z
UID:2032-1620759600-1620763200@bethemedicine.com
SUMMARY:Learn About Our Summer Vision Quest
DESCRIPTION:A-Zoom meeting with Janet StraightArrow Free. 7-8 Pm ET \nRetreat Dates. August 20-22 in the Catskills\, NY. A Sacred Rite of Passage A time for you. Pause and get off the track of your life to go inside and discover your authentic voice\, needs\, and choices\, and your inner wisdom as a gift you give yourself. We begin the journey with weekly emails to support your inner process as preparation as soon as you sign up. These are often held for three days over a weekend. We are on sacred land and clean accommodations. Are you moving through a significant change this year? Come for a powerful weekend of ceremony\, Journeys\, transformation\, and rebirth with Shaman Janet StraightArrow. Awaken clarity\, life purpose\, and joy as we break through illusions\, fears\, and ego. This is a gentle yet powerful\, life-changing weekend. Tonight we discuss the retreat and details. Bring questions and interest. See www.bethemedicine.com/events for more under the quest. Sign up with your name\, email\, and phone number with janet@Bethemedicine.com for the Zoom link by noon 5/11. \nPrepaid discount and sign-up by May 15. Payment plan available after.
URL:https://bethemedicine.com/event/learn-about-vision-quest/
LOCATION:Be The Medicine\, Chester\, NJ\, 07930\, United States
CATEGORIES:community event,Retreat,Vision Quest
ORGANIZER;CN="Janet StraightArrow":MAILTO:Janet@Bethemedicine.com
END:VEVENT
BEGIN:VEVENT
DTSTART;VALUE=DATE:20221021
DTEND;VALUE=DATE:20221024
DTSTAMP:20260421T192705
CREATED:20220825T154328Z
LAST-MODIFIED:20221005T095354Z
UID:2576-1666310400-1666569599@bethemedicine.com
SUMMARY:New Shamanic Journey Catskill Retreat
DESCRIPTION:New! Shamanic Journey Catskill Weekend 10/21-23.  \nJoin us for a weekend in a beautiful sacred space to deepen your connection to yourself and all. Enjoy Peace\, Clarity\, Wisdom\, and Healing.  \nParticipants feel refreshed\, reborn\, relaxed\, and heard. \n We can all use a weekend in nature far from the maddening crowd to hear ourselves think and be.  \nWe have plenty of space for us in the community and private time on our own.  \nDue to the infusion of cold air and messy weather early this fall\, I am planning more of an indoor retreat with some outdoor exploration.  \nWe circle inside and experience Shamanic Journeys to increase our connections and knowledge of who we are and to understand our journey. We meet and work with our guides and teachers supporting us. \nWe also work with the spirits of the land and nature and deepen our understanding of all of our connections. \nWeather permitting\, an outdoor fire ceremony is planned. \n“My weekend with Janet opened my mind\, heart\, and soul. She created the space with gentleness\, insight\, and warmth\, allowing this opening to unfold naturally. I appreciate how she could cull the wisdom from ancient practices and apply it to each student’s experience.” \nOur retreat space is easy to drive to. The farm and woods are sacred and honored and offer a haven to relax and enjoy the weekend. There are comfortable beds inside the lodge. The lodge is warm and welcoming. We have a full kitchen to prepare our meals.  \nBring layers of clothing to be warm and comfortable. If you choose to camp\, spots are available with a flush toilet and a hot outdoor shower.  \nEveryone brings food for themselves; keep it simple. Over the years\, I found that it is easier to bring our food in a small group as we all have unique diets. We eat together indoors or outside.  \nRegistration – Email me your name\, phone number\, and any questions\, or call me at 973-647-2500 to sign up. Payment details are below.  \n$350. Venmo janet-straightarrow 2500 (Janetstraightarrow@gmail.com) Zelle Janetstraightarrow@gmail.com 2500  \nCredit Cards www.PayPal.me/janetstraightarrow \nChecks: call me for details. Call me with any questions. Blessings\, Janet 973-647-2500 \n  \n 
URL:https://bethemedicine.com/event/shamanic-journey-retreat-catskill/
LOCATION:Art Farm\, Fawn lane Accord NY\, NY\, United States
CATEGORIES:Ceremony,Clear Mind,Ego Healing,Healing,Mindfulness,peaceful living,Retreat,Shamanism,Spiritual Healing,Vision Quest
ATTACH;FMTTYPE=image/jpeg:https://bethemedicine.com/wp-content/uploads/2022/08/pexels-anastasia-shuraeva-8033847-scaled.jpg
ORGANIZER;CN="Janet StraightArrow":MAILTO:Janet@Bethemedicine.com
END:VEVENT
BEGIN:VEVENT
DTSTART;TZID=UTC:20230717T193000
DTEND;TZID=UTC:20230717T203000
DTSTAMP:20260421T192705
CREATED:20230710T105526Z
LAST-MODIFIED:20230710T105526Z
UID:3086-1689622200-1689625800@bethemedicine.com
SUMMARY:July Vision Quest Preparation Zoom Call
DESCRIPTION:This is a gathering of participants for last-minute preparation together.
URL:https://bethemedicine.com/event/july-vision-quest-preparation-zoom-call/
LOCATION:NJ
END:VEVENT
BEGIN:VEVENT
DTSTART;TZID=UTC:20230721T150000
DTEND;TZID=UTC:20230723T150000
DTSTAMP:20260421T192705
CREATED:20230405T194839Z
LAST-MODIFIED:20231215T084129Z
UID:2843-1689951600-1690124400@bethemedicine.com
SUMMARY:Women's Retreat Vision Quest - Sign Up and Begin Today
DESCRIPTION:Join Janet StraightArrow as she guides you and several other people on a Shamanic Journey to you. \n“A retreat with Janet is coming home. Janet’s teachings emerge from a place of unconditional love. You come away with you\, and your life is forever changed. Choosing to work with Janet is giving yourself the most beautiful gift in the world.\nThis Vision Quest is an opportunity to be in a sacred space\, to hear your heart speak\, and receive the fullness of who you are. Open up to the next stage of your life path. \nThis weekend is a gift that is magical\, deep\, and transformative.  We come to this retreat to awaken new levels of inner wisdom and truth and to release anything in the way. \nAre you ready for a deep connection to yourself\, your life purpose\, and your direction? Are you moving through a significant change in your life? \nCome for a nurturing weekend of ceremony\, journeys\, transformation\, and rebirth\, with Shaman Janet StraightArrow. Sign Up early and prepare with email support. Unfortunately\, we are limiting this group to eight participants. \nYou will enjoy a gentle\, deep journey in nature and experience Shamanic tools and practices to support reconnecting to all of nature and your life. \nWe will work in the Medicine Wheel\, representing all ages of your life and elements. We create a powerful sacred space for ourselves all weekend. We bring home a refreshing\, powerful self and a new focus and attitude of your life to unfold from here. \nInsights and visions occur naturally as we sit in nature. We are prepared for this experience throughout the weekend and with the emails leading up to the weekend. \nThis is a natural process without drugs. The entire weekend is a preparation for Sunday morning’s quiet time on the land by yourself to call for a vision. We have a beautiful space on sacred ground with privacy and safety. You may camp or stay inside a spacious lodge. \nCall Janet. 973-647-2500 Or Email to set up a time to speak. \n$800. Prepaid. Or\, a payment plan is offered. I prefer to talk to you before you sign up to ensure this is a perfect opportunity. \nRegistration. Send payment and email me at Janet@Bethemedicine.com with your name and phone number. Preparation emails sent. \nVenmo janet-straightarrow 2500 (Janetstraightarrow@gmail.com) \nZelle Janetstraightarrow@gmail.com 2500 \nCredit Cards www.PayPal.me/janetstraightarrow Please add 3% to pay with Pay Pal. \nChecks – email Janet@bethemedicine.com for details. \nCall me with any questions. Blessings\, Janet 973-647-2500 \n“We just finished a retreat with Janet. We were in an amazing space\, but it would not matter where we were. Janet brings the safe container\, and then we build upon it. By safe container\, I mean a safe place to explore your true self\, cut out the illusion\, and discover who you are. We were able to experience the love within and integrate it to bring it back into the world whole and strong\, resolved to be our true selves and abide in our true nature.”  \n“Janet StraightArrow provides an unparalleled opportunity to bring you to the real you. It’s a well-worn path for her; she knows every part of this amazing journey. Janet emanates love\, respect\, and\, most of all\, joy in this great adventure. So\, if you are ready to walk the path back to you – there is no better guide\, teacher\, mentor\, and friend than Janet StraightArrow.” \n“To have a true teacher who can communicate to everyone from different backgrounds the “truth” of “love\,” loving ourselves and loving each other is a rare and miraculous gift. Janet knows when you have a question and must express yourself\, even if you might be afraid. Janet kindly helps you reframe your words about yourself\, your feelings\, and others to be more aligned with love and truth. What a genuinely amazing experience and teacher.” \n 
URL:https://bethemedicine.com/event/vision-quest-catskills/
LOCATION:Art Farm\, Fawn lane Accord NY\, NY\, United States
CATEGORIES:Ceremony,Healing,Intuition,Mindfulness,personal mastery,Retreat,Self Healing,Shamanism,Vision Quest
ATTACH;FMTTYPE=image/jpeg:https://bethemedicine.com/wp-content/uploads/2023/04/soul-shamanism.jpg
ORGANIZER;CN="Janet StraightArrow":MAILTO:Janet@Bethemedicine.com
END:VEVENT
BEGIN:VEVENT
DTSTART;TZID=UTC:20230807T150000
DTEND;TZID=UTC:20230808T120000
DTSTAMP:20260421T192705
CREATED:20230710T105257Z
LAST-MODIFIED:20230710T105257Z
UID:3084-1691420400-1691496000@bethemedicine.com
SUMMARY:Private Vision Quest
DESCRIPTION:This is an individual event. \n 
URL:https://bethemedicine.com/event/private-vision-quest/
LOCATION:Be The Medicine\, Chester\, NJ\, 07930\, United States
ORGANIZER;CN="Janet StraightArrow":MAILTO:Janet@Bethemedicine.com
END:VEVENT
END:VCALENDAR