BEGIN:VCALENDAR
VERSION:2.0
PRODID:-//Be the Medicine - ECPv6.15.20//NONSGML v1.0//EN
CALSCALE:GREGORIAN
METHOD:PUBLISH
X-ORIGINAL-URL:https://bethemedicine.com
X-WR-CALDESC:Events for Be the Medicine
REFRESH-INTERVAL;VALUE=DURATION:PT1H
X-Robots-Tag:noindex
X-PUBLISHED-TTL:PT1H
BEGIN:VTIMEZONE
TZID:UTC
BEGIN:STANDARD
TZOFFSETFROM:+0000
TZOFFSETTO:+0000
TZNAME:UTC
DTSTART:20230101T000000
END:STANDARD
END:VTIMEZONE
BEGIN:VEVENT
DTSTART;TZID=UTC:20240206T150000
DTEND;TZID=UTC:20240206T163000
DTSTAMP:20260421T180245
CREATED:20231214T133044Z
LAST-MODIFIED:20231214T133044Z
UID:3610-1707231600-1707237000@bethemedicine.com
SUMMARY:Introduction to Be The Medicine
DESCRIPTION:  \nIn this experience\, we will learn simple\, straightforward ways to be present in our body and life with tools and teachings that support our life’s journey. This is a Private Group Class on Zoom. Janet is available to be a guest speaker in your group. \nBe The Medicine is a “how-to” be our true highest Self\, heal body\, mind\, and spirit\, and live it in everyday life. We are all brilliant and capable and have been taught against us in myriad ways. Janet’s mission and purpose have been to create a clear path from foundational beginnings to very advanced consciousness levels. \nIn this time of spiritual awakening and living our purpose\, our focus at Be The Medicine is your healing journey and awakening. Our professional pieces of training all fully engage you to participate in the process. Being a healer\, teacher\, or whatever your role in work and life is about being it and not just doing it. \nGrounded in truth and love\, the interference clears\, and we discover how simple life can be\, even in its unique complexities. We explore challenges and personal growth in relationships\, health\, family life\, spiritual-life journey\, purpose\, career\, and business. All are raised to our highest level of ability\, awareness\, responsibility\, joy\, and accomplishment. \nClasses are profound and simple\, as the highest truth becomes blissfully clear. We have fun exploring our gifts and releasing ego\, fear\, expectations\, and attachment to receive a clear vision for others and ourselves first. Whichever class you are guided to take will surprise you as it answers exactly what you want to know. \nBe The Medicine teachings are found in each\, and every class taught. Learn\, heal\, become present\, accessible\, and so much more than you ever knew you could before. We learn to trust ourselves and embrace our fantastic Self. There are also workshops and trainings for individual focus steps. \nNo matter who we are and what we want to learn\, heal\, or solve the teachings and tools help us get to where we want to go and beyond. PS. We have fun on the journey. \nOur workshops and Be The Medicine classes offer a neutral\, practical spiritual foundation to live our lives with wisdom\, knowledge\, confidence\, peace\, love\, and joy. \nJanet has simplified profound ways to be in the present\, quiet your mind\, explore your true Self\, and understand how to travel the more remarkable journey.
URL:https://bethemedicine.com/event/introduction-to-be-the-medicine/
LOCATION:Zoom\, 247 North Road\, Chester\, NJ\, 07930\, United States
CATEGORIES:Clear Mind,Energy Medicine,Healing Circle,Wisdom Circle
ATTACH;FMTTYPE=image/jpeg:https://bethemedicine.com/wp-content/uploads/2022/08/Janetarmsopen19.jpeg
ORGANIZER;CN="Janet StraightArrow":MAILTO:Janet@Bethemedicine.com
END:VEVENT
END:VCALENDAR