BEGIN:VCALENDAR
VERSION:2.0
PRODID:-//Be the Medicine - ECPv6.15.20//NONSGML v1.0//EN
CALSCALE:GREGORIAN
METHOD:PUBLISH
X-WR-CALNAME:Be the Medicine
X-ORIGINAL-URL:https://bethemedicine.com
X-WR-CALDESC:Events for Be the Medicine
REFRESH-INTERVAL;VALUE=DURATION:PT1H
X-Robots-Tag:noindex
X-PUBLISHED-TTL:PT1H
BEGIN:VTIMEZONE
TZID:UTC
BEGIN:STANDARD
TZOFFSETFROM:+0000
TZOFFSETTO:+0000
TZNAME:UTC
DTSTART:20230101T000000
END:STANDARD
END:VTIMEZONE
BEGIN:VEVENT
DTSTART;TZID=UTC:20240813T190000
DTEND;TZID=UTC:20240813T211500
DTSTAMP:20260422T224607
CREATED:20240715T155406Z
LAST-MODIFIED:20260204T175933Z
UID:3879-1723575600-1723583700@bethemedicine.com
SUMMARY:Soul Shamanism Ongoing Tuesday Class
DESCRIPTION:We continue learning how to navigate our Soul Shamanism core practices for healing and learning. \nWe learn and experience more each night\, moving us deeply into our lives\, health\, and purpose. \nTeachings and Journeys are recorded on Zoom so you can continue practicing independently. \nThis is a progressive learning and healing experience. \nPrepay to receive the Zoom link. \nBoth nights are $150 or $75. a night. 3 minimum students. \nSign up one week before. \nYou are welcome to join us if you have completed at least Soul Shamanism 101. Tuesdays. 7-9:15 PM \nEmail Me 973-647-2500 \nAs we gather together\, we learn and support one another. Walk your walk with surety\, wisdom\, and grace. \nThis practice allows continual growth\, healing\, and wisdom to guide our lives and live our truth and purpose as it inspires enlightenment. Once mastered\, this practice replaces almost all practices and tools to accomplish healing and personal and spiritual mastery. \nThese life-changing classes open us to heavenly levels of reality. We have the experience and find unconditional love\, universal truth\, and our true self inside of us. \n“Our life makes sense when we discover the truth of our soul. Knowing who we are as the person we were born to be in this body and lifetime unfolds and is supported in many ways.” Janet StraightArrow\nOffered once a month on Zoom.
URL:https://bethemedicine.com/event/soul-shamanism-ongoing-tuesday-class/2024-08-13/
LOCATION:Zoom\, 247 North Road\, Chester\, NJ\, 07930\, United States
CATEGORIES:Self Healing,Shamanism,Soul Shamanism,Spiritual Healing,wisdom
ATTACH;FMTTYPE=image/jpeg:https://bethemedicine.com/wp-content/uploads/2023/04/soul-shamanism.jpg
ORGANIZER;CN="Janet StraightArrow":MAILTO:Janet@Bethemedicine.com
END:VEVENT
END:VCALENDAR