BEGIN:VCALENDAR
VERSION:2.0
PRODID:-//Be the Medicine - ECPv6.15.20//NONSGML v1.0//EN
CALSCALE:GREGORIAN
METHOD:PUBLISH
X-WR-CALNAME:Be the Medicine
X-ORIGINAL-URL:https://bethemedicine.com
X-WR-CALDESC:Events for Be the Medicine
REFRESH-INTERVAL;VALUE=DURATION:PT1H
X-Robots-Tag:noindex
X-PUBLISHED-TTL:PT1H
BEGIN:VTIMEZONE
TZID:UTC
BEGIN:STANDARD
TZOFFSETFROM:+0000
TZOFFSETTO:+0000
TZNAME:UTC
DTSTART:20210101T000000
END:STANDARD
END:VTIMEZONE
BEGIN:VEVENT
DTSTART;TZID=UTC:20240309T180000
DTEND;TZID=UTC:20240309T180000
DTSTAMP:20260421T105753
CREATED:20220825T152851Z
LAST-MODIFIED:20240222T145936Z
UID:2564-1710007200-1710007200@bethemedicine.com
SUMMARY:Toltec Shamanic Mitote Ceremony and Dreaming.
DESCRIPTION:This Weekend is the perfect opportunity to experience this Mitote Ceremony. \nJanet StraightArrow holds one of these powerful ceremonies as she is called to. Each ceremony is unique\, and participants return more than once for a more profound healing experience and personal growth that raises their energy vibration. \nEnjoy this profound experience. (from the Don Miguel Ruiz Tradition.) Janet has experienced this ceremony in sacred places with one of Don Miguel’s first apprentices\, Dona Bernadette\, in Mexico\, Peru\, and New Mexico. Janet has been called to continue this tradition in Ceremonies in overnight retreats in various locations in New England\, New Jersey\, and New York State since 2002. \nWe release the old and bring in the new with renewed awareness\, intention\, and silence. This high-energy\, sacred Ancient practice adapted to today includes lucid dreaming\, chanting\, and meditation in this overnight Retreat Ceremony and Celebration. \nJoin us on Saturday\, March 9\, from 6 PM into Sunday\, March 10\, at 10 AM. \nYou will have time to sleep and dream during this overnight ceremony. Allow Sunday to integrate and relax into your new self. \nIt is a perfect opportunity for leaders\, teachers\, therapists\, healers\, seekers\, and those who help others to receive a profound spiritual experience offering transformation\, awakening\, and healing. \nPractices and teachings in this overnight Mitote Ceremony Saturday night into Sunday allow deep healing and the opportunity to break through stuck places in preparation for the rest of your life. \nRelease the old and bring in the new with renewed awareness\, intention\, and silence. This sacred Ancient practice adapted to today will include lucid dreaming\, chanting\, and meditation. \nJoin us for this unique opportunity to awaken and release anything holding you back from being the amazing human you are and dive into the wonder of you. \nThis group experience is powerful and life-changing\, resetting you on a solid path for yourself. Janet has facilitated this ceremony and process in groups in five states for twenty-two years with excellent results. \nAs a Shaman\, Janet raises and opens your energy and breakthrough illusions\, enabling you to make changes in your life aligned with your truth. \nWe open the circle of community to awaken us to new possibilities with a ceremony to bring in all of the directions and circle of life\, honoring this crossroads for all of us into the New Year. \nThis Mitote will have an additional practice to help us awaken and release the illusions so we can see them inside and outside us. \nWe move into the Mitote\, Chanting and Dreaming\, and awaken at Sunrise to rebirth ourselves. We welcome the New Year and day in a local park and then have breakfast together. \nBring a bedroll\, layers of clothing\, toiletries\, a notebook\, pens\, healthy snacks\, dinner\, and breakfast to share. \nJanet StraightArrow holds a space of love and healing for all who participate. This experience will assist you in being free to be fully yourself and live from your center. \nEnjoy this fantastic opportunity to remember\, learn\, and heal in alignment with your best self and possibility. \n$300. Limited to 12 people. Still some spaces available. \nEmail or call me to reserve your space. Janet StraightArrow 973-647-2500  Janet@bethemedicine.com \nPayments below \nZelle 973-647-2500 Janetstraightarrow@gmail.com \nVenmo @janet-straightarrow  973-647-2500 Janetstraightarrow@gmail.com \nCredit Cards Pay Pal  \nHeld at a private home in the Chester area. Directions on sign up. \nJanet’s extensive training in Shamanism\, Holding Space\, Healing\, and Teaching and directly working with a Nagual Shaman from Don Miguel Ruiz’s lineage bring you a wonderful experience. Janet found her calling as a Shaman in 1992. Her expression is Universal\, which meets our needs as modern people. We are not limited by religion or culture. We are all one and find comfort in the wholeness and holiness of our experience of ourselves and one another. \nTestimonials \n“This healing space is not hard or fearful; there are gentle transitions that you can feel \nand a sense that is mirrored with your companions-hearing their stories validates you. Your struggles are not so different – different faces and places\, the essence of being human\, are shared in a safe space with no judgment. Janet makes it fun\, lighthearted\, and no big deal. StraightArrow accurately reads where you are and speaks the words that bring insights that change your landscape and give you new perspectives about all the people in your life. Everyone feels included and supported; all of the pieces of the space\, place\, and time are honored.” \n“We just finished a Mitote weekend retreat with Janet StraightArrow. We were in an amazing space\, but it would not matter where we were. Janet brings the safe container\, and then we build upon it. By safe container\, I mean a safe place to explore your true self\, cut out the illusion\, and discover who you are. We were able to experience the love within and integrate it to bring it back into the world more whole and stronger and resolved to be our true selves and abide in our true nature. Janet’s StraightArrow approach is loving and keen as it cuts through the BS and helps you to heal. Janet can see each person as they are and kindly\, lovingly move them into their truth. Thank You\, Janet; I love you.” \n“Janet is a midwife who holds each soul in love and bliss\, helping them to surrender and be known. Every word that flows out touches everyone\, clearing limiting beliefs and rebuilding perfect mental\, physical\, and spiritual health. She is a blessing to all.”
URL:https://bethemedicine.com/event/toltec-mitote-ceremony/
LOCATION:Be The Medicine\, Chester\, NJ\, 07930\, United States
CATEGORIES:Advanced Healer,Channeling,Clear Mind,Distance Healing,Ego Healing,Energy Medicine,Healing,Intuition,Mindfulness,peaceful living,personal mastery,Self Healing,Shamanism,Soul Shamanism,Spiritual Healing
ATTACH;FMTTYPE=image/jpeg:https://bethemedicine.com/wp-content/uploads/2022/08/2.jpeg
ORGANIZER;CN="Janet StraightArrow":MAILTO:Janet@Bethemedicine.com
END:VEVENT
BEGIN:VEVENT
DTSTART;TZID=UTC:20220917T103000
DTEND;TZID=UTC:20220918T163000
DTSTAMP:20260421T105753
CREATED:20220209T205354Z
LAST-MODIFIED:20220916T170120Z
UID:2276-1663410600-1663518600@bethemedicine.com
SUMMARY:Soul Shamanism 101-A Weekend Experience with Your Soul
DESCRIPTION:This extraordinary Universal\, Spiritual Shamanic practice makes the mystical – practical\, immediate\, and genuine in everyday life.\n\n\nJoin us for this profound new beginning to your life. Janet StraightArrow teaches this class in person as she initiates you into a direct experience of your soul self. Sign Up Today.\n\n\nYou explore your Shamanic territories and learn universal laws to live in your body and life. You also meet your ancestors\, guides\, and teachers who travel with you. You will never feel alone again.\n\n\n\nYou explore your spiritual inner space that directly reflects your body and entire life. You now have direct access to your inner wisdom and knowledge and learn how to deepen this daily. Healing on all levels opens up in ways you never imagined possible.\n\n\n\nSoul Shamanism is an excellent class for healers\, teachers\, therapists\, coaches\, and all seekers ready to Be and Live who they indeed are. From this day forward\, you will feel empowered by the depth of your soul and all your connections and tools from this experiential class.\n\n\n\nYour life purpose awakens and readies you to move forward in all areas of your life in profound\, simple\, straightforward ways. Heal yourself directly from present concerns and past hurts. Find inner peace\, tranquility\, and knowing.\n\n\n\nAwaken Medical Intuition\, Channeling\, Intuition\, and other spiritual gifts and abilities.\n\n\n\n“As healers\, we are trained in ways to assist others and be channels for information that others may not be able to see for themselves. For the first time\, this experience has given me tools and techniques which I can use to be a silent witness for myself. I leave this experience empowered to care better for myself\, my body\, my mind\, and my spirit. Janet is a very powerful being and articulate teacher\, yet her delivery comes from pure love and resonates in a way that will continue long after the physical experience shared.”\n\n\n\nEnjoy this addition to your spiritual healing tool bag\, a precious gift. Soul Shamanism takes all Spiritual and Shamanic Practices to new\, deeper levels for Shamanic Practitioners\, Healers\, and everyone. This class is an important beginning to assist you in Being The Medicine.\n\n\nJanet has been working with and teaching this practice for 19 years. The work has deepened and grown into a powerful way for people to heal and live their Best True Selves with confidence and knowledge.\n\n\n\n“…I have a whole new world open to me for balance\, self-confidence\, knowing what is real\, and reinforcing the beauty of living the truth. There is a peaceful retreat inside my body when I get help from my twin to tap into who I know I am and what I can achieve.”\n\n\nStill a few posts open.\n\n\n\n$425. Registration. Send payment and e-mail me at Janet@Bethemedicine.com with your name and phone number.\n\n\nVenmo janet-straightarrow 2500 (Janetstraightarrow@gmail.com)\nZelle Janetstraightarrow@gmail.com 2500\nCredit Cards www.PayPal.me/janetstraightarrow\n\n\nCall me with any questions. Blessings\, Janet 973-647-2500\nThis practice comes from a Siberian Lineage.\n\no
URL:https://bethemedicine.com/event/soul-shamanism-retreat/
LOCATION:Be The Medicine\, Chester\, NJ\, 07930\, United States
CATEGORIES:Advanced Healer,Be Your Own Guru,Channeling,Clear Mind,Ego Healing,Energy Medicine,Healing,Healing Circle,Mindfulness,Retreat,Self Healing,Shamanism,Soul Shamanism,Spiritual Healing,wisdom
ATTACH;FMTTYPE=image/jpeg:https://bethemedicine.com/wp-content/uploads/2022/02/SOUL-SHAMANISM-LOGO-03.jpg
ORGANIZER;CN="Janet StraightArrow":MAILTO:Janet@Bethemedicine.com
END:VEVENT
BEGIN:VEVENT
DTSTART;TZID=UTC:20220323T190000
DTEND;TZID=UTC:20220323T211500
DTSTAMP:20260421T105753
CREATED:20220213T164108Z
LAST-MODIFIED:20220214T151201Z
UID:2294-1648062000-1648070100@bethemedicine.com
SUMMARY:Advanced Soul Shamanism BiWeekly Class
DESCRIPTION:ALL NEW PRACTICE. Join us for ongoing learning in this multidimensional practice. New Levels and Dimensions taught and opened for high-level movement for all. \nWednesday nights weeks\nJoin us for one or all $60. a night \nNow that you have been introduced and are practicing the Soul Shamanism teachings and working with your inner space’s territory\, there is much more to learn and experience. \nThere are new teachings and territories to be initiated in and explored. \nLearning to move through any blocks into wholeness\, health\, happiness\, truth\, beauty\, and light allows your entire life to transform into its perfect alignment. \nIn this class\, you will fully join with your timeless self and know more clearly about your life and soul purpose. \nHigher-level guides and wisdom and healing are immediately present. Each of us who began this series has moved light-years on our journey. \nWe explore new dimensions of us in various realms and find our true nature divine\, with solutions always available. \nLearn to know and heal yourself in more ways that are simple and profound. Explore deeper regions of the Lake and Twin and advanced ways to develop a daily practice. \nIt is an entirely new class with new teachings and practices.\nVenmo janet-straightarrow Janetstraightarrow@gmail.com\nZelle Janetstraightarrow@gmail.com\nCredit cards on www.PayPal.me/janetstraightarrow please add 3%.\nChecks email me for address.\nExperience new energy levels\, wisdom\, knowledge\, healing\, tools\, and practices within this practice. \nJoin us for as many of these classes as you can for healing and personal spiritual growth.
URL:https://bethemedicine.com/event/advanced-soul-shamanism-biweekly-class-3/
LOCATION:Be The Medicine\, Chester\, NJ\, 07930\, United States
CATEGORIES:Advanced Healer,Breath work,Distance Healing,Ego Healing,Energy Medicine,Healing,Intuition,Mindfulness,Ongoing Advanced Course,personal mastery,Self Healing,Shamanism,Soul Shamanism,Spiritual Healing,wisdom
ATTACH;FMTTYPE=image/jpeg:https://bethemedicine.com/wp-content/uploads/2020/10/6_w546_s1.jpg
ORGANIZER;CN="Janet StraightArrow":MAILTO:Janet@Bethemedicine.com
END:VEVENT
BEGIN:VEVENT
DTSTART;TZID=UTC:20220315T190000
DTEND;TZID=UTC:20220315T213000
DTSTAMP:20260421T105753
CREATED:20220228T142645Z
LAST-MODIFIED:20220515T112904Z
UID:2345-1647370800-1647379800@bethemedicine.com
SUMMARY:Soul Shamanism 201 -Complete the foundation
DESCRIPTION:A profound Spiritual Journey. Preparation for Reiki Master\, Medical Intuition\, Deep Healing\, and Life. \nSoul Shamanism 101 required. Join us if you have taken 101\, last month\, years\, or decades ago\, to reconnect and access your Whole Self-Soul and live it in all areas of your life now. \nThis class offers more profound experiences and teachings to anchor the practice in your life. New dimensions of you open up to join you with your divine self\, truth\, and purpose. \nSoul Shamanism 101 is a beginning. This class creates wholeness and a complete understanding of working with this practice independently. I have refined the teachings and the technique to make them accessible to all in the past year. \n\nSOUL SHAMANISM – BE ONE WITH YOUR SOUL\n\n\nSoul Shamanism came to me from a Siberian practice that took me beyond any Shamanic practice I had learned before. It answered my questions on how to Be The Medicine by connecting to our higher self-soul and exploring our multidimensional inner space where we discover all levels of us as humans and divine beings. I began in 2002 and have continued to teach\, practice\, and develop this work to profound healing and connection levels. \nMy favorite experience initiating a person into this sacred space was my mom’s age of eighty. She became very quiet all of a sudden. I asked her what her experience was? She said\, “Janet\, I feel at home for the first time in my life.” She was in absolute bliss\, content\, and at peace. We experience the love\, beauty\, and truth of who we are. \nWhy is it called Soul Shamanism? After studying Shamanism from traditions on many continents\, I found unity and wholeness in this practice. I could teach others to heal and gain knowledge more efficiently and effectively than any other method. I brought the wisdom of higher spiritual teachings worldwide and implemented them in this practice\, which makes all the difference. \nSoul Shamanism is a great way to learn self-healing and more about who we are and how to live our purpose and best life. We access the Shamanic State of Consciousness in grounded and divine ways. \nMore possibilities open as we work with this together in sessions and classes. This method is an excellent foundation for Be The Medicine and Medical Intuition as we directly connect to information on all levels. \nIn this work\, you learn discernment and eliminate blocks to your complete health\, happiness\, purpose\, and living as you know to live your highest potential and truth. Efficient and direct healing of body\, mind\, emotions\, spirit through advanced techniques taught. \nThis Soul Shamanism practice guides people to be their true selves. This inner and outer journey is quite an adventure. I draw on Universal teachings and tools from traditions worldwide that add to the journey’s fullness. \nSoul Shamanism 101 & 201 offer you the foundation. More classes and private sessions deepen the experience\, teachings\, and ways to heal\, work with others\, and your soul-lifetimes to be more fully aligned and who you are here today. \nAdvanced levels of the work assist in timeless healing and pure\, productive living. You also learn to work and live with others on a soul level. \nLiving Universal Laws and releasing Illusions on all levels allows your soul journey to move clearly\, and you learn to heal immediately in profound ways in this sacred space of you. \nEarly bird discount is $278.00 by 3/13. $295 for payment plans and regular price. (Usually $395.) \nI discounted this price as many joined other retreats and classes this spring. If you have any questions\, call Janet at 973-647-2500 \nVenmo janet-straightarrow 2500 (email is Janetstraightarrow@gmail.com) \nZelle Janetstraightarrow@gmail.com \nCredit Cards add $10.00 \nChecks email me for address.
URL:https://bethemedicine.com/event/soul-shamanism-201-complete-the-foundation-2/2022-03-15/
LOCATION:Be The Medicine\, Chester\, NJ\, 07930\, United States
CATEGORIES:Advanced Healer,Be Your Own Guru,Breath work,Clear Mind,Ego Healing,Energy Medicine,Healing,Intuition,Mindfulness,Ongoing Advanced Course,Self Healing,Shamanism,Soul Shamanism,Spiritual Healing,wisdom
ATTACH;FMTTYPE=image/jpeg:https://bethemedicine.com/wp-content/uploads/2021/01/SOULSHAMNEVENTIMAGE.jpg
ORGANIZER;CN="Janet StraightArrow":MAILTO:Janet@Bethemedicine.com
END:VEVENT
END:VCALENDAR