BEGIN:VCALENDAR
VERSION:2.0
PRODID:-//Be the Medicine - ECPv6.15.20//NONSGML v1.0//EN
CALSCALE:GREGORIAN
METHOD:PUBLISH
X-ORIGINAL-URL:https://bethemedicine.com
X-WR-CALDESC:Events for Be the Medicine
REFRESH-INTERVAL;VALUE=DURATION:PT1H
X-Robots-Tag:noindex
X-PUBLISHED-TTL:PT1H
BEGIN:VTIMEZONE
TZID:UTC
BEGIN:STANDARD
TZOFFSETFROM:+0000
TZOFFSETTO:+0000
TZNAME:UTC
DTSTART:20250101T000000
END:STANDARD
END:VTIMEZONE
BEGIN:VEVENT
DTSTART;TZID=UTC:20260516T100000
DTEND;TZID=UTC:20260516T120000
DTSTAMP:20260420T000123
CREATED:20260324T124739Z
LAST-MODIFIED:20260416T155148Z
UID:5420-1778925600-1778932800@bethemedicine.com
SUMMARY:Take The Monkey Out of Your Mind - Enjoy a Quiet Clear Peaceful Body and Mind
DESCRIPTION:YOU DO NOT HAVE TO TOLERATE A BUSY\, INTERFERING MIND.\nImagine a life where you can be present\, loving\, and kind to yourself and all. You access your inner wisdom and live life on a higher plane. Blessings\, Janet\nThis class is on Saturday Morning at Mind Body Therapy Collective in Montclair\, NJ\, from 10 am to noon. \nA Zoom class is offered on Tuesday night\, 5/19\, at 6:30 PM Eastern Time. Same class. \nLearn the mostly unknown causes and immediate ways to stay quiet\, grounded\, and clear. Long-term healing and peace unfold. The Zen-coined phrase “Monkey Mind” describes what humans experience. 59 Years of study and practice have brought together this unique set of teachings and tools to make a difference in your mind and life immediately.\nPowerful. Unique. It Works!\n “Shamanic\, Zen\, Yogic Teachings and Profound Tools to Be Peaceful and Present\, Heal Trauma\, and Be The Medicine.\n\n\nPsychology and Spiritual Researchers say that up to 80% of our awareness and energy is used and sidetracked by the internal dialogue that keeps us busy and away from our highest mind. \nImagine being content and clear-minded in a quiet\, peaceful mind. Your life has so many possibilities to explore from this clear space. Your wisdom and center are fully accessible. Life Works. It only gets better from here. \nThis unique session focuses on universal wisdom and practical tools for healing trauma\, being present\, and releasing the interfering energies that cause anxiety\, fear\, and other negative emotions. You learn the deeper causes of our emotions\, thoughts\, and actions. \nWith these original practices\, you learn to realign your attention and thoughts and release anything that is holding you back in the moment\, leading to long-term healing. Learn how to take control of your mind and your life by being more aware\, awake\, and present in ways you always wanted. \nWHO WILL APPRECIATE THIS PROFOUND TOOL AND TEACHINGS\nThis class is designed for anyone seeking high-level solutions for a clear mind\, including therapists\, coaches\, and holistic healers. Participants will leave with new perspectives and immediate techniques to quiet the mind\, listen to innate wisdom\, and unlayer the causes of emotional stress and find peace.\nFROM HERE: MEDITATION\, SHAMANIC JOURNEYING\, SPIRITUAL HEALING\, COACHING\, EVERYDAY LIVING\, AND PSYCHOTHERAPY ARE SIMPLER AND EASIER.\nJanet developed these teachings and practices from 60 years of study. This is a new foundation for empowered and peaceful living. This practice and teaching align your life to understand and find peace\, healing your past\, and empowering your present. \n\nAdvanced-level teachings on energy and us.\nYou leave with a powerful set of simple yet powerful practices that change your life.\nYou look at life\, ego\, spirit\, emotions\, and mind in ways that help you live free\, be present\, and be happy.\nYou can move into a deep\, clear space inside of you in a few moments\, wherever you are.\nNo need to wait\, you can clear your mind and energy immediately\, find your center\, and be present anywhere and anytime.\nYou also unlayer the years of energy\, trauma\, fear\, and limiting beliefs that keep you stuck and break up the monkey mind when practiced over time.\nA practice of reclaiming your energy and truth is also taught to bring you full circle.\nYour ability for personal and spiritual growth is magnified as you live in clarity with no doubt.\nAdditional materials and recordings included.\nA 20-minute follow-up call is included to integrate the class.\n\n“This class brought me to a place of being more centered with myself. The personal insights gained from practicing newly learned awareness and breathwork techniques were a magnificent gift to myself\, assisting me on my healing journey. These techniques are easy to learn and invaluable to all! ” \n \nJanet StraightArrow is a Heyoka Shaman\, Healer\, and Sage who has over four decades of teaching and healing experience. She has helped individuals transform their lives through these specific practices\, enabling them to gain control and access long-term peace and joy. She focuses on Universal truths and how each one guides us to healing and being our true divine selves in human form. \n Janet teaches advanced ways about perception – moving out of my head and into pure experience. The tools of the art of perception were shared with clarity and power by Janet\, and I was able to use them immediately to access life lessons.” Amanda\, PhD Psychologist \n The Take the Monkey out of Your Mind teachings and practices came together after I fully understood what causes our continual thoughts and emotions\, how to clear them\, and how to remove the cause and hear our true self think and know. From this place\, peace and magic happen. We immediately move into our higher mind\, intuition\, and inner knowledge. \nREGISTRATION email Janet#Bethemedicine.com or clal 973-647-2500 \nPayment options below to secure your place. \nZelle 973-647-2500 Janet StraightArrow \nVenmo @janet-straightarrow 973-647-2500 \nwww.PayPal.me/JanetStraightArrow \nChecks\, reach out to Janet at 973-647-2500 or Janet@Bethemedicine.com \nPlease reach out to Janet with any questions. \n“With all I have practiced and studied\, I found Janet StraightArrow’s work to be profound and moves me deeply. Everything is logical and immediately usable in every area of my life. Each person in the class is from a different spiritual healing path\, and yet we were all on this path together. It is refreshing to have such a grounded spiritual teacher to take me on this new level of my journey.” Claudia\, Yoga Teacher \n \n  \nPlease reach out with any questions or for more informatioN.
URL:https://bethemedicine.com/event/take-the-monkey-out-of-your-mind/
LOCATION:Mind Body Therapy Collective\, 70 Park Ave\, Suite 206\, Montclair\, NJ\, 07042\, United States
CATEGORIES:Advanced Healer,Be Your Own Guru,Breath work,Clear Mind,Ego Healing,Energy Medicine,Healing,Mindfulness,peaceful living,personal mastery,Protected Healer,Self Healing,Shamanism,wisdom
ATTACH;FMTTYPE=image/jpeg:https://bethemedicine.com/wp-content/uploads/2025/06/iStock-809358708-scaled.jpeg
ORGANIZER;CN="Janet StraightArrow":MAILTO:Janet@Bethemedicine.com
END:VEVENT
END:VCALENDAR