BEGIN:VCALENDAR
VERSION:2.0
PRODID:-//Be the Medicine - ECPv6.15.20//NONSGML v1.0//EN
CALSCALE:GREGORIAN
METHOD:PUBLISH
X-ORIGINAL-URL:https://bethemedicine.com
X-WR-CALDESC:Events for Be the Medicine
REFRESH-INTERVAL;VALUE=DURATION:PT1H
X-Robots-Tag:noindex
X-PUBLISHED-TTL:PT1H
BEGIN:VTIMEZONE
TZID:UTC
BEGIN:STANDARD
TZOFFSETFROM:+0000
TZOFFSETTO:+0000
TZNAME:UTC
DTSTART:20200101T000000
END:STANDARD
END:VTIMEZONE
BEGIN:VEVENT
DTSTART;TZID=UTC:20211028T190000
DTEND;TZID=UTC:20211028T211500
DTSTAMP:20260421T152028
CREATED:20211003T153828Z
LAST-MODIFIED:20211003T161714Z
UID:2191-1635447600-1635455700@bethemedicine.com
SUMMARY:Reiki Practitioner Monthly Healing Circle Zoom
DESCRIPTION:October\, Thursday\, 28TH\, November\, Wednesday 17th\, December\, Wednesday 8th. 7-9:15pm ET \nJoin with other practitioners of all levels and schools to receive and share the energy. \nWe continue our learning and healing together. \nGathering on Zoom to share Reiki’s beautifully loving\, healing energy. \nWe work together in class and send Reiki to one another in various ways. \nLearn New Skills. \nReceive personal healing.\nHelp others and learn from these experiences are gold. \nLearn\, experience\, and continue your Reiki Healers journey in the community each month.\nEach month will be unique as Janet offers continual learning\, tools\, and experiences. \nLeave feeling peaceful as you release stress\, pain and increase healing and love.\nBring healing intentions and questions. \nLeave with higher energy\, awareness\, and your healing\, and a feeling of community. \n$50. Janet will send the zoom Link to you after payment. \nRecording sent after class to review learning. \nJanet may recommend books. \nZelle Janetstraightarrow@gmail.com\nVenmo janet-straightarrow Janetstraightarrow@gmail.com\nCredit cards www.PayPal.me/JanetStraightArrow\nChecks call Janet 973-647-2500
URL:https://bethemedicine.com/event/reiki-practitioners/2021-10-28/
LOCATION:Be The Medicine\, Chester\, NJ\, 07930\, United States
CATEGORIES:Advanced Healer,community event,Distance Healing,Energy Medicine,Healing,Healing Circle,Reiki,Reiki Training,Self Healing
ORGANIZER;CN="Janet StraightArrow":MAILTO:Janet@Bethemedicine.com
END:VEVENT
BEGIN:VEVENT
DTSTART;TZID=UTC:20251120T183000
DTEND;TZID=UTC:20251120T210000
DTSTAMP:20260421T152028
CREATED:20250918T121805Z
LAST-MODIFIED:20250918T122118Z
UID:4853-1763663400-1763672400@bethemedicine.com
SUMMARY:Monthly All Level Reiki Practice and Advanced Learning
DESCRIPTION:Take Your Reiki to the Next Level. Give\, Receive\, Learn Advanced Skills\nReiki Practitioners of all levels continue your learning and healing together each month. \nExperience a powerful session and work with other practitioners. \nJanet will teach new teachings and tools and support the sessions. \nA Reiki Master-Teacher for 29 years\, Janet appreciates the continuous learning process with practice and healing ourselves. a \nJanet is offering a place to expand your Reiki and healing wisdom\, knowledge\, and understanding. \nPersonalized attention and learning are a treat. \nThis is excellent preparation and support for your personal and professional growth and healing. \nOur Reiki Master Course will be in 2026. If you have studied elsewhere\, you are invited to join \nReserve your spot ahead of time. \nPrepay $45. By Tuesday before each Thursday class. \nZelle 973-647-2500 \nVenmo @janet-straightarrow \nPayPal.me/janetstraightarrow \nCash or checks that day with a reservation. Email Janet or Text 973-647-2500
URL:https://bethemedicine.com/event/monthly-all-level-reiki-practice-and-advanced-learning/
LOCATION:Be The Medicine\, Chester\, NJ\, 07930\, United States
CATEGORIES:Advanced Healer,Channeling,Energy Medicine,Healing,Healing for Healers,Ongoing Advanced Course,Reiki,Spiritual Healing
ATTACH;FMTTYPE=image/jpeg:https://bethemedicine.com/wp-content/uploads/2023/10/iStock-1340271846-scaled.jpeg
ORGANIZER;CN="Janet StraightArrow":MAILTO:Janet@Bethemedicine.com
END:VEVENT
BEGIN:VEVENT
DTSTART;TZID=UTC:20251121T190000
DTEND;TZID=UTC:20251121T210000
DTSTAMP:20260421T152028
CREATED:20250918T121300Z
LAST-MODIFIED:20251012T155358Z
UID:4850-1763751600-1763758800@bethemedicine.com
SUMMARY:Monthly All Levels Reiki Practice and Advanced Learning
DESCRIPTION:Take Your Reiki to the Next Level. Give\, Receive\, Learn Advanced Skills\nReiki Practitioners of all levels continue your learning and healing together each month. \nExperience a powerful session and work with other practitioners. \nJanet will teach new teachings and tools and support the sessions. \nA Reiki Master-Teacher for 29 years\, Janet appreciates the continuous learning process with practice and healing ourselves. a \nJanet is offering a place to expand your Reiki and healing wisdom\, knowledge\, and understanding. \nPersonalized attention and learning are a treat. \nThis is excellent preparation and support for your personal and professional growth and healing. \nOur Reiki Master Course will be in 2026. If you have studied elsewhere\, you are invited to join \nReserve your spot ahead of time. \nPrepay $45. By Tuesday before each Thursday class. \nZelle 973-647-2500 \nVenmo @janet-straightarrow \nPayPal.me/janetstraightarrow \nCash or checks that day with a reservation \nCash or checks that day with a reservation. Email Janet or Text 973-647-2500
URL:https://bethemedicine.com/event/all-levels-reiki-practice-learning/
LOCATION:Be The Medicine\, Chester\, NJ\, 07930\, United States
CATEGORIES:Advanced Healer,Channeling,Energy Medicine,Healing,Healing for Healers,Intuition,Ongoing Advanced Course,Reiki,Reiki Training,Spiritual Healing
ATTACH;FMTTYPE=image/jpeg:https://bethemedicine.com/wp-content/uploads/2020/10/reiki-circle.jpg
ORGANIZER;CN="Janet StraightArrow":MAILTO:Janet@Bethemedicine.com
END:VEVENT
END:VCALENDAR