BEGIN:VCALENDAR
VERSION:2.0
PRODID:-//Be the Medicine - ECPv6.15.20//NONSGML v1.0//EN
CALSCALE:GREGORIAN
METHOD:PUBLISH
X-WR-CALNAME:Be the Medicine
X-ORIGINAL-URL:https://bethemedicine.com
X-WR-CALDESC:Events for Be the Medicine
REFRESH-INTERVAL;VALUE=DURATION:PT1H
X-Robots-Tag:noindex
X-PUBLISHED-TTL:PT1H
BEGIN:VTIMEZONE
TZID:UTC
BEGIN:STANDARD
TZOFFSETFROM:+0000
TZOFFSETTO:+0000
TZNAME:UTC
DTSTART:20230101T000000
END:STANDARD
END:VTIMEZONE
BEGIN:VEVENT
DTSTART;TZID=UTC:20240611T183000
DTEND;TZID=UTC:20240611T213000
DTSTAMP:20260423T112030
CREATED:20240427T212754Z
LAST-MODIFIED:20240515T152721Z
UID:3845-1718130600-1718141400@bethemedicine.com
SUMMARY:Reiki Bodywork Class & Practice Monthly Evening Sessions
DESCRIPTION:CONTINUE YOUR STUDIES AND ENHANCE YOUR LEARNING AND PRACTICE. \nADD NEW HEALING TOOLS FROM THE MANY HEALING PRACTICES I HAVE LEARNED OVER FIFTY-SEVEN YEARS. \nAll level practitioners learn more while receiving a table session and giving Reiki sessions to one another. \nLearn more ways to heal and work with the energy in each session. \nNew tools and teachings from my over three decades of Reiki practice. \nShamanic tools will be added along with other traditions when called for. \nBring a notebook to have the details of each one. \nEveryone receives a session and gives a session or more. \nReserve your spot and bring your healing table if you have one. \n$100. for each evening class. These hours will be added to your next-level certificate training or to an added certificate for Reiki Masters Graduates. \nIf you practice other modalities of energy medicine\, call me to see how you can join us. I will want to know your practice to be sure it aligns with and is easy to integrate with Reiki. \nJoin as you can by 7 pm. 6:30 is optimal. \nZelle\, Venmo\, Cash\, and Checks are accepted. RSVP By Monday morning before the Tuesday session please. \n$100. \nZelle 973-647-2500 Janetstraightarrow@gmail.com \nVenmo @janet-straightarrow same phone and email as above \nwww.PayPal.me/janetstraightarrow \nCall for address on checks
URL:https://bethemedicine.com/event/reiki-montly-bodywork-class-practice/2024-06-11/
LOCATION:Be The Medicine\, Chester\, NJ\, 07930\, United States
CATEGORIES:Advanced Healer,Channeling,Energy Medicine,Healing,Intuition,Ongoing Advanced Course,Reiki 1 Training,Reiki 2 Advanced Training,Reiki Master Training,Reiki Training
ATTACH;FMTTYPE=image/jpeg:https://bethemedicine.com/wp-content/uploads/2023/04/iStock-1340271846-scaled.jpeg
ORGANIZER;CN="Janet StraightArrow":MAILTO:Janet@Bethemedicine.com
END:VEVENT
END:VCALENDAR