BEGIN:VCALENDAR
VERSION:2.0
PRODID:-//Be the Medicine - ECPv6.15.20//NONSGML v1.0//EN
CALSCALE:GREGORIAN
METHOD:PUBLISH
X-WR-CALNAME:Be the Medicine
X-ORIGINAL-URL:https://bethemedicine.com
X-WR-CALDESC:Events for Be the Medicine
REFRESH-INTERVAL;VALUE=DURATION:PT1H
X-Robots-Tag:noindex
X-PUBLISHED-TTL:PT1H
BEGIN:VTIMEZONE
TZID:UTC
BEGIN:STANDARD
TZOFFSETFROM:+0000
TZOFFSETTO:+0000
TZNAME:UTC
DTSTART:20210101T000000
END:STANDARD
END:VTIMEZONE
BEGIN:VEVENT
DTSTART;TZID=UTC:20220419T190000
DTEND;TZID=UTC:20220517T213000
DTSTAMP:20260421T231741
CREATED:20220427T194858Z
LAST-MODIFIED:20220215T155354Z
UID:1779-1650394800-1652823000@bethemedicine.com
SUMMARY:Soul Shamanism 101-Be One with Your Soul
DESCRIPTION:Initiations and Training. Zoom.  5 Tuesdays\, April 19 – May 17\, 7-9:30 PM ET. \nThis class offers a profound experience and practice that is life-changing. Discover your inner space of peace\, wisdom\, and divine connection. Knowing who you are as a soul and personality allows you to choose and live more fully each day. \nJoin us from anywhere. We have had profound experiences on Zoom\, bringing students from the US and Canada together in one room. \nJanet holds sacred high-energy space and guides you lovingly into higher dimensions in this training. Having walked this walk for decades\, Janet has great compassion and patience\, creating a pathway to raise you into higher dimensions of life and you. \nJoin us with Janet StraightArrow as she initiates you into a direct experience of your soul-self. You will explore the Shamanic territories of you and learn the highest universal laws to live in your body and life from now on. You will also meet your ancestors\, guides\, teachers who travel with you always. \nJanet was initiated into this practice in 2002 and developed it along with Be The Medicine to assist people from all walks of life to live and heal and experience their true selves. This work integrates our highest potential and teachings from worldwide studies that are universal. \nYou will explore your inner space that directly reflects your body and entire life. After this class\, you will never feel alone again. You now have direct access to your inner wisdom and knowledge and learn how to deepen this every day. Healing on all levels opens up in ways you never imagined possible. \nThis Universal\, Spiritual Shamanic practice makes the mystical – practical\, immediate\, and genuine in everyday life. As you develop this practice\, working with others\, you learn how to explore your life multidimensionally and help yourself and others directly. \nIt is an excellent class for healers\, teachers\, therapists\, coaches\, and All who are ready to Be and Live who they indeed are. From this day forward\, you will feel empowered by the depth of your soul\, self\, and all of your connections and tools received from this experiential class. \nYour life purpose awakens and readies you to move forward in all areas of your life in profound\, simple\, straightforward ways. Heal yourself directly from present concerns and past hurts. Find inner peace\, tranquility\, and knowing. \nAwaken Medical Intuition\, Channeling\, Intuition\, and other spiritual gifts and abilities. Enjoy this addition to your spiritual healing tool bag that is a precious gift. Soul Shamanism takes all Spiritual and Shamanic Practices to new deeper\, higher levels for Shamanic Practitioners\, Healers\, and everyone. This class is an important beginning to assist you to Be The Medicine. \nJoin us from anywhere on Zoom and enjoy the journey to know who you are\, heal on profound levels\, and how to live your life purpose.\nZoom\nEarly bird paid in full $395. by 4/10. $425. after. Retake $300. Always more to experience and learn.\nVenmo @janet-straightarrow 973-647-2500\nZelle Janetstraightarrow@gmail.com 973-647-2500 \nCreditcards www.PayPal.me/janetstraightarrow \nPrepay and email me at Janet@Bethemedicine.com \nSee More on Soul Shamanism Page under Teaching Circle Tab above and more student experiences under Testimonials page for Soul Shamanism. \n“Wow! Deep work. I met my inner self and learned the lessons I need in my life now. As a massage therapist and a mother\, it’s easy to forget to take care of myself. But\, today\, I did that and more\, and I can take the lessons and wisdom back into my life and work. Janet’s humor\, compassion\, and straight talk facilitate the process. I plan to continue working with her as my life unfolds!” \n“This class was a spirited one of Acceptance and surrender\, both within myself and among those working with me. It provided both space and the opportunity to heal and learn new healing methods on/in the dimension of our everyday reality and the dimensions beyond it. Janet offered understanding\, support\, and encouragement. It was a wonderful beginning to a lifelong journey.” \n“My Soul Shamanism class with Janet was profound. She helped me open inner doors and\, I explored my mission and my soul. I am stronger and more aligned as a result. I recommend this journey for anyone who wants to learn more about him or herself and find a healthier paradigm for living.”
URL:https://bethemedicine.com/event/soul-shamanism-101/
LOCATION:Be The Medicine\, Chester\, NJ\, 07930\, United States
CATEGORIES:Be Your Own Guru,Channeling,Clear Mind,Energy Medicine,Healing,Meditation Course,Mindfulness,Self Healing,Shamanism,Soul Shamanism
ATTACH;FMTTYPE=image/jpeg:https://bethemedicine.com/wp-content/uploads/2021/01/SOULSHAMNEVENTIMAGE.jpg
ORGANIZER;CN="Janet StraightArrow":MAILTO:Janet@Bethemedicine.com
END:VEVENT
BEGIN:VEVENT
DTSTART;TZID=UTC:20230212T190000
DTEND;TZID=UTC:20230212T203000
DTSTAMP:20260421T231741
CREATED:20221221T124924Z
LAST-MODIFIED:20230208T120733Z
UID:2676-1676228400-1676233800@bethemedicine.com
SUMMARY:Monthly Meditation Circle on Zoom
DESCRIPTION:TREAT YOURSELF \nExperience a memorable night of spiritual delights. \nLeave feeling refreshed\, empowered\, and peaceful. \nJoin us from anywhere for this Sunday night meditation gathering on Zoom 7-8:30 pm. Put these dates on your calendar – 2/12\, 3/12 \nEnd your weekend on Sunday night and prepare to begin your week with a deeply relaxing guided meditation allowing you to let go of stress\, be open to a night of good sleep\, and experience yourself from a centered\, empowered\, and clear place. \nEach session offers guided meditation\, teachings\, tools\, questions\, and sharing. Join us once a month. I love gathering people from near and far. \nTHIS MONTH’S FOCUS IS ON LOVE-SELF-LOVE-UNCONDITIONAL LOVE. \n\nHave you wondered about my classes and sessions? This is an opportunity for a nurturing journey – meditation that will bring you great connection\, comfort\, and wisdom. Enjoy this experience of love\, healing\, and wisdom that lights you up on your path.\n\nJoin us on March 12 too.\nEach session is as unique as the energy of the day and the people gathered.\nDonations suggested $35-40 – all offerings gratefully accepted. \nZelle\, 973-647-2500 Janetstraightarrow@gmail.com \nVenmo @janet-straightarrow 973-647-2500 Janetstraightarrow@gmail.com \nwww.PayPal.me/janetstraightarrow or checks sent ahead of time. \nI have been channeling powerful transformational meditations since 1999. As we move into 2023\, \nI like to offer opportunities for everyone to experience this and assist them in relaxing and moving forward in their lives. \nIf you have not studied or worked with me\, and even if you have\, you will enjoy a great experience\, feel fantastic\, and learn more. \nTeachings will be relevant for the night and people attending. Participation enhances the experience. Fun\, always fun\, too. \nYou will have the recordings of these meditations emailed to you to listen to again. \n“To have a true teacher who can communicate to everyone from different backgrounds the “truth” of “love\,” loving ourselves\, and loving each other\, is a rare and miraculous gift. She knows when you have a question and need to express yourself\, even if you might be afraid to. Janet kindly helps you reframe your words about yourself\, your feelings\, and others\, to be more aligned with love and truth. What a genuinely amazing experience and teacher.”  Yoga Teacher \nI have been involved in self-fulfillment programs for over 20 years\, yet since my work with Janet\, I have been able to delve into deeper areas and regain a greater sense of self. Last week\, I learned that opening my heart was not about giving away a part of me. Through a simple exercise that allowed the duality to dissipate and create the space for compassion to guide the potential for what my heart is now capable of.” Jeff Oras\, Holistic Dentist
URL:https://bethemedicine.com/event/powerful-meditation-circle-on-zoom/
LOCATION:Zoom\, 247 North Road\, Chester\, NJ\, 07930\, United States
CATEGORIES:Clear Mind,community event,Healing,Meditation Course,Mindfulness,peaceful living,Self Healing,wisdom
ATTACH;FMTTYPE=image/jpeg:https://bethemedicine.com/wp-content/uploads/2020/10/pexels-ave-calvar-martinez-4852352-scaled.jpg
ORGANIZER;CN="Janet StraightArrow":MAILTO:Janet@Bethemedicine.com
END:VEVENT
BEGIN:VEVENT
DTSTART;TZID=UTC:20230312T190000
DTEND;TZID=UTC:20230312T203000
DTSTAMP:20260421T231741
CREATED:20221221T125600Z
LAST-MODIFIED:20221221T125839Z
UID:2678-1678647600-1678653000@bethemedicine.com
SUMMARY:Monthly Meditation Circle on Zoom
DESCRIPTION:TREAT YOURSELF \nExperience a memorable night of spiritual delights. \nLeave feeling refreshed\, empowered\, and peaceful. \nJoin us from anywhere for this Sunday night meditation gathering on Zoom 7-8:30 pm. Put these dates on your calendar – 1/15\, 2/12\, 3/12 \nEnd your weekend on Sunday night and prepare to begin your week with a deeply relaxing guided meditation allowing you to let go of stress\, be open to a night of good sleep\, and experience yourself from a centered\, empowered\, and clear place. \nEach session offers guided meditation\, teachings\, tools\, questions\, and sharing. Join us once a month. I love gathering people from near and far. \nJoin us on February 12 and March 12 too.\nEach session is as unique as the energy of the day and the people gathered.\nDonations suggested $35-40 – all offerings gratefully accepted. \nZelle\, 973-647-2500 Janetstraightarrow@gmail.com \nVenmo @janet-straightarrow 973-647-2500 Janetstraightarrow@gmail.com \nwww.PayPal.me/janetstraightarrow or checks sent ahead of time. \nI have been channeling powerful transformational meditations since 1999. As we move into 2023\, \nI like to offer opportunities for everyone to experience this and assist them in relaxing and moving forward in their lives. \nIf you have not studied or worked with me\, and even if you have\, you will enjoy a great experience\, feel fantastic\, and learn more. \nTeachings will be relevant for the night and people attending. Participation enhances the experience. Fun\, always fun\, too. \nYou will have the recordings of these meditations emailed to you to listen to again. \n  \nI have been involved in self-fulfillment programs for over 20 years\, and yet since my work with Janet\, I have been able to delve into deeper areas regaining a greater sense of self. Last week\, I learned that opening my heart was not about giving away a part of me. Through a simple exercise that allowed the duality to dissipate and create the space for compassion to guide the potential for what my heart is now capable of.” Jeff Oras\, Holistic Dentist \n“To have a true teacher who can communicate to everyone from different backgrounds the “truth” of “love\,” loving ourselves\, and loving each other\, is a rare and miraculous gift. She knows when you have a question and need to express yourself\, even if you might be afraid to. Janet kindly helps you reframe your words about yourself\, your feelings\, and others\, to be more aligned with love and truth. What a genuinely amazing experience and teacher.” 
URL:https://bethemedicine.com/event/monthly-meditation-circle-on-zoom/
LOCATION:Zoom\, 247 North Road\, Chester\, NJ\, 07930\, United States
CATEGORIES:Clear Mind,community event,Healing,Intuition,Meditation Course,Mindfulness,monthly meditation,peaceful living,personal mastery
ATTACH;FMTTYPE=image/jpeg:https://bethemedicine.com/wp-content/uploads/2021/01/pexels-samuel-silitonga-737586-1-scaled.jpg
ORGANIZER;CN="Janet StraightArrow":MAILTO:Janet@Bethemedicine.com
END:VEVENT
BEGIN:VEVENT
DTSTART;TZID=UTC:20230416T190000
DTEND;TZID=UTC:20230416T203000
DTSTAMP:20260421T231741
CREATED:20221221T123731Z
LAST-MODIFIED:20230403T141750Z
UID:2674-1681671600-1681677000@bethemedicine.com
SUMMARY:Monthly Meditation Circle on Zoom
DESCRIPTION:TREAT YOURSELF – WE BEGIN THIS SERIES ON FEBRUARY 12 \nExperience a memorable night of spiritual delights. \nLeave feeling refreshed\, empowered\, and peaceful. \nJoin us from anywhere for this Sunday night meditation gathering on Zoom 7-8:30 pm. Put these dates on your calendar – 2/12\, 3/12 \nEnd your weekend on Sunday night and prepare to begin your week with a deeply relaxing guided meditation allowing you to let go of stress\, be open to a night of good sleep\, and experience yourself from a centered\, empowered\, and clear place. \nEach session offers guided meditation\, teachings\, tools\, questions\, and sharing. Join us once a month. I love gathering people from near and far. \nJoin us on February 12\, March 12\, and April 16 too.\nEach session is as unique as the energy of the day and the people gathered.\nDonations suggested $35-40 – all offerings gratefully accepted. \nZelle\, 973-647-2500 Janetstraightarrow@gmail.com \nVenmo @janet-straightarrow 973-647-2500 Janetstraightarrow@gmail.com \nwww.PayPal.me/janetstraightarrow or checks sent ahead of time. \nI have been channeling powerful transformational meditations since 1999. As we move into 2023\, \nI like to offer opportunities for everyone to experience this and assist them in relaxing and moving forward in their lives. \nIf you have not studied or worked with me\, and even if you have\, you will enjoy a great experience\, feel fantastic\, and learn more. \nTeachings will be relevant for the night and people attending. Participation enhances the experience. Fun\, always fun\, too. \nYou will have the recordings of these meditations emailed to you to listen to again.\n“To have a true teacher who can communicate to everyone from different backgrounds the “truth” of “love\,” loving ourselves\, and loving each other\, is a rare and miraculous gift. She knows when you have a question and need to express yourself\, even if you might be afraid to. Janet kindly helps you reframe your words about yourself\, your feelings\, and others\, to be more aligned with love and truth. What a genuinely amazing experience and teacher.” 
URL:https://bethemedicine.com/event/monthly-meditation-circle/2023-04-16/
LOCATION:Zoom\, 247 North Road\, Chester\, NJ\, 07930\, United States
CATEGORIES:Be Your Own Guru,Breath work,Channeling,Clear Mind,community event,Distance Healing,Energy Medicine,Healing,Healing Circle,Meditation Course,Mindfulness
ATTACH;FMTTYPE=image/jpeg:https://bethemedicine.com/wp-content/uploads/2020/10/Winter.jpeg
ORGANIZER;CN="Janet StraightArrow":MAILTO:Janet@Bethemedicine.com
END:VEVENT
END:VCALENDAR