BEGIN:VCALENDAR
VERSION:2.0
PRODID:-//Be the Medicine - ECPv6.15.20//NONSGML v1.0//EN
CALSCALE:GREGORIAN
METHOD:PUBLISH
X-WR-CALNAME:Be the Medicine
X-ORIGINAL-URL:https://bethemedicine.com
X-WR-CALDESC:Events for Be the Medicine
REFRESH-INTERVAL;VALUE=DURATION:PT1H
X-Robots-Tag:noindex
X-PUBLISHED-TTL:PT1H
BEGIN:VTIMEZONE
TZID:UTC
BEGIN:STANDARD
TZOFFSETFROM:+0000
TZOFFSETTO:+0000
TZNAME:UTC
DTSTART:20230101T000000
END:STANDARD
END:VTIMEZONE
BEGIN:VEVENT
DTSTART;TZID=UTC:20240414T100000
DTEND;TZID=UTC:20240414T160000
DTSTAMP:20260421T173747
CREATED:20240324T121437Z
LAST-MODIFIED:20240324T121437Z
UID:3777-1713088800-1713110400@bethemedicine.com
SUMMARY:Channeling and Automatic Writing 2
DESCRIPTION:Join us in person or on Zoom on Sunday\, April 14\, 10 am to 4 pm. \nIn this class\, we deepen and refine our connections\, channeling\, and automatic writing skills. \nLearning more about ourselves and those higher-level connections who support us in spirit. \nWe find more purpose in our writing\, healing\, spiritual growth\, and life. \nDevelop skills for spiritual practitioners\, everyday people\, and business leaders who want to write from their higher self and profound personal spiritual connections—a perfect way to take Shamanism and other healing modalities to the next level. \nEnjoy this profound way to open up your perceptions and connections and translate them into practical\, profound messages and automatic writing. \nJoin Janet as she creates a high-energy container and opens you to a path of awareness to receive abundantly. \nWe experience various meditations\, journeys\, and automatic writing segments throughout the class. \nDiscover how to tap into your wisdom and creativity concerning your life\, health\, daily life\, soul purpose\, and more. \nYou will develop confidence and comfort in knowing what you know and connecting to your higher self and spiritual guidance to download more information. \nWe learn to receive more complete messages about what is true for us consciously and unconsciously as we bring it all out in our automatic writing practice. \nExperience new ways to break through any fears and blocks and allow profound\, accurate messages that move you forward in every way. \nJanet also teaches you to work with more profound questions to receive complete answers. This class allows you to go deeper with Soul Shamanism\, Reiki\, and other healing and spiritual practices.  \n*This class creates a powerful practice and more profound connections to work with on your continued journey. As we awaken more levels of our perception\, we raise our consciousness and participate fully in life. \n*No matter your profession\, this course will help you be more open\, present\, and aware on many levels to be successful in your life\, work\, and relationships. \n*Receive information\, energy\, and excellent new practices to deepen your connections. Receive flowing messages and record them easily. \n*This class is an excellent opportunity for you to awaken your spiritual connections and gifts and write with greater flow with your blogs\, books\, other writing projects\, and personal marketing. \nJanet has been a writer and a Shaman for over thirty years\, accessing inner wisdom and channeling information. She has studied with top writers and masters in many traditions\, from Astrology to Zen. \nShe lives what she teaches and is excited to bring you into your higher wisdom. Join us. It is always an adventure. \nYou will have a recording of the class to listen to\, go deeper with the meditations\, and practice with each listen. \nBring light snacks and a light\, healthy lunch for the day class to allow the most significant amount of clarity in our experience. \n$325. Please pay by 4/4 or as soon as possible. \nFor Registration. Could you send payment and then email to confirm. \nPreparation emails sent. Janet@bethemedicine.com. Please call me with specific questions about this weekend’s training. \nVenmo janet-straightarrow 2500 (Janetstraightarrow@gmail.com) \nZelle Janetstraightarrow@gmail.com 2500 \nCredit Cards www.PayPal.me/janetstraightarrow Please add 3%. \nFeel free to call me with any questions. Blessings\, Janet 973-647-2500 \n  \n  \n\n 
URL:https://bethemedicine.com/event/channeling-and-automatic-writing-2/
LOCATION:Be The Medicine\, Chester\, NJ\, 07930\, United States
CATEGORIES:Advanced Healer,Automatic Writing,Channeling,Clear Mind,Ego Healing,Intuition,Mindfulness,personal mastery,wisdom,Writing
ATTACH;FMTTYPE=image/jpeg:https://bethemedicine.com/wp-content/uploads/2024/01/pexels-dom-j-45718-scaled.jpeg
ORGANIZER;CN="Janet StraightArrow":MAILTO:Janet@Bethemedicine.com
END:VEVENT
BEGIN:VEVENT
DTSTART;TZID=UTC:20240609T100000
DTEND;TZID=UTC:20240609T160000
DTSTAMP:20260421T173747
CREATED:20240111T124731Z
LAST-MODIFIED:20240606T123436Z
UID:3664-1717927200-1717948800@bethemedicine.com
SUMMARY:Channeling and Automatic Writing Level One
DESCRIPTION:This class creates a powerful practice and more profound connections to work with on your continued journey. As we awaken more levels of our perception\, we raise our consciousness and participate fully in life.\n*No matter your profession\, this course will help you be more open\, present\, and aware on many levels to be successful in your life\, work\, and relationships.\n*Receive information\, energy\, and excellent new practices to deepen your connections. Receive flowing messages and record them easily.\n*This class is an excellent opportunity for you to refine your spiritual connections and gifts and write in your journal\, with greater flow with your blogs\, books\, other writing projects\, and personal marketing.\nLeave this class with a greater sense of who you are at all levels and how to know the answers to life’s questions. \nJoin us in person or on Zoom. See testimonials below. \n\nDevelop skills for spiritual practitioners\, everyday people\, and business leaders who want to write from their higher self and profound personal spiritual connections—a perfect way to take Shamanism and other healing modalities to the next level.\nEnjoy this profound way to open up your perceptions and connections and translate them into practical\, profound messages and automatic writing.\nJoin Janet as she creates a high-energy container and opens you to a path of awareness to receive abundantly.\nWe experience various meditations\, journeys\, and automatic writing segments throughout the class.\nDiscover how to tap into your wisdom and creativity concerning your life\, health\, daily life\, soul purpose\, and more.\nYou will develop confidence and comfort in knowing what you know and connecting to your higher self and spiritual guidance to download more information.\nWe learn to receive more complete messages about what is true for us\, consciously and unconsciously\, as we express this information in our automatic writing practice.\nExperience new ways to break through any fears and blocks and allow profound\, accurate messages that move you forward in every way.\nJanet also teaches you to work with more profound questions to receive complete answers. This class allows you to go deeper with Soul Shamanism\, Reiki\, and other healing and spiritual practices.\n\nAllow integration and continued practice after this one-day class for the best results. We will continue this class with enough interest for deeper learning and experience.\nJanet has been a writer and a Shaman for over three decades\, accessing inner wisdom and channeled information. She has studied with top writers and masters in many traditions\, from Astrology to Zen.\nHer ability to write ads and copy for Real Estate Listings helped her achieve multiple offers in a market when other local homes still needed to be shown.\nShe lives what she teaches and is excited to bring you into your higher wisdom. Join us. It is always an adventure.\nYou will have a recording of the class to listen to\, which will allow you to go deeper with the meditations and practice with each listen.\nPlease bring light snacks and a healthy lunch for the day class to ensure the most significant clarity in our experience.\n\n\n$325.\nPlease send the payment and email me your name and phone number for registration. Preparation emails have been sent. Janet@bethemedicine.com. Please call me with specific questions about this weekend’s training.\nVenmo janet-straightarrow 2500 (Janetstraightarrow@gmail.com)\nZelle Janetstraightarrow@gmail.com 2500\nCredit Cards www.PayPal.me/janetstraightarrow Please add 3% to pay with PayPal.\nChecks – email Janet@bethemedicine.com for details.\nFeel free to call me with any questions. Blessings\, Janet 973-647-2500\nChecks – email Janet@bethemedicine.com for details. \nCall me with any questions. Blessings\, Janet 973-647-2500 \n\n\nTESTIMONIALS\n\n“The channeling and automatic writing class with Janet StraightArrow is a blast and truly transformative. I felt myself open up tremendously as I was immediately able to channel beautiful messages from my heart. Throughout the class\, I could break through barriers and limitations blocking my writing and life. Each participant that day was able to recognize more clearly what personally held us back from putting pen to paper and experiencing more of our potential. Janet provided us with advice\, techniques\, and practices we can use every day to become more open and receive divine guidance along the way.\nThe answers I have been seeking are now pouring out of me\, and I can write more freely than ever before while feeling more connected and clearer. I am happy and deeply thankful for the opportunity to have taken that class with Janet. I recommend it to anyone interested in exercising creativity and practical ways to access YOUR SOUL and TRUTH! Thank you again for offering this class to me and for teaching at all! You are changing lives and mine! Your energy is very calming and beautiful.”\n“This class with Janet StraightArrow is genuinely transformative. Throughout the class\, I could break through barriers and limitations that were blocking me in my life. Each participant that day was able to recognize more clearly what personally held us back from experiencing more of our potential. Janet provided us with advice\, techniques\, and practices we can use every day to become more open and receive divine guidance along the way. The answers I seek now pour out of me while feeling more connected and transparent. I am happy and deeply thankful for the opportunity to have taken that class with Janet. I recommend it to anyone interested in exercising creativity and practical ways to access YOUR SOUL and TRUTH! “ \n  \n 
URL:https://bethemedicine.com/event/channeling-and-auto-writing/
LOCATION:Be The Medicine\, Chester\, NJ\, 07930\, United States
CATEGORIES:Automatic Writing,Channeling,Clear Mind,Intuition,Mindfulness,wisdom,Writing
ATTACH;FMTTYPE=image/jpeg:https://bethemedicine.com/wp-content/uploads/2024/01/pexels-dom-j-45718-scaled.jpeg
ORGANIZER;CN="Janet StraightArrow":MAILTO:Janet@Bethemedicine.com
END:VEVENT
END:VCALENDAR