BEGIN:VCALENDAR
VERSION:2.0
PRODID:-//Be the Medicine - ECPv6.15.20//NONSGML v1.0//EN
CALSCALE:GREGORIAN
METHOD:PUBLISH
X-ORIGINAL-URL:https://bethemedicine.com
X-WR-CALDESC:Events for Be the Medicine
REFRESH-INTERVAL;VALUE=DURATION:PT1H
X-Robots-Tag:noindex
X-PUBLISHED-TTL:PT1H
BEGIN:VTIMEZONE
TZID:UTC
BEGIN:STANDARD
TZOFFSETFROM:+0000
TZOFFSETTO:+0000
TZNAME:UTC
DTSTART:20220101T000000
END:STANDARD
END:VTIMEZONE
BEGIN:VEVENT
DTSTART;TZID=UTC:20231018T155100
DTEND;TZID=UTC:20231018T155100
DTSTAMP:20260420T060556
CREATED:20230705T143056Z
LAST-MODIFIED:20231214T125711Z
UID:3074-1697644260-1697644260@bethemedicine.com
SUMMARY:Ongoing Soul Shamanism Advanced Class
DESCRIPTION:Join Us – You Continue to Heal\, Learn\, and Grow individually in a community with people from many states on Zoom. \nAfter taking Soul Shamanism 101 and 201\, this course offers spiritual growth\, healing\, ascension\, experiencing our soul and oneness in the Universe\, and much more. \nWe have unique experiences\, healing\, and knowledge of who we are and how to manifest ourselves. Each class offers deep healing\, learning\, and growth. Join us as you are called to\, or enjoy the ongoing journey. Soul Shamanism 201 is suggested next. \nThe love and community have been such a gift to us all. I have brought the highest experience and teachings to these groups. \nThis adventure goes beyond many spiritual practices you can use for your spiritual growth and healing and empower work with others. \nJoin us for ongoing learning in this multidimensional practice. New Levels and Dimensions were taught and opened for high-level movement for all. \nGraduates of Soul Shamanism 101 and 201\, join us Thursday nights every two weeks. \nJoin us for one or all @ $60. a night. Or prepay for four nights for $220. \nThis program offers mastery-level experiences\, practice\, learning\, and healing in ways not known by many. Each class provides deep healing\, peace\, understanding\, and more. \nMoving through any blocks into wholeness\, health\, happiness\, truth\, beauty\, and light allows your entire life to transform into perfect alignment. \nHigher-level guides and wisdom and healing are immediately present. Each of us who began this series has moved light-years on our journey.\nWe explore new dimensions of us in various realms and find our true nature divine\, with solutions always available. \nExperience new energy levels\, wisdom\, knowledge\, healing\, tools\, and practices within this practice. Join us for as many of these classes as possible for healing and personal spiritual growth. \nPast students from up to twenty years ago have joined us and found fantastic growth and support in this class. \nZelle 973-647-2500 Janetstraightarrow@gmail.com \nVenmo @janet-straightarrow Janetstraightarrow@gmail.com\nCredit cards on www.PayPal.me/janetstraightarrow\nChecks email me for the address.\nExperience new energy levels\, wisdom\, knowledge\, healing\, tools\, and practices within this practice. \nJoin us for as many of these classes as possible for healing and personal spiritual growth.
URL:https://bethemedicine.com/event/ongoing-soul-shamanism-advanced-class/2023-10-18/
LOCATION:Be The Medicine\, Chester\, NJ\, 07930\, United States
CATEGORIES:Advanced Healer,Be Your Own Guru,Breath work,Channeling,Clear Mind,community event,Distance Healing,Ego Healing,Energy Medicine,Healing,Healing Circle,Intuition,Mindfulness,Ongoing Advanced Course,personal mastery,Self Healing,Shamanism,Soul Shamanism,Spiritual Healing
ORGANIZER;CN="Janet StraightArrow":MAILTO:Janet@Bethemedicine.com
END:VEVENT
END:VCALENDAR