BEGIN:VCALENDAR
VERSION:2.0
PRODID:-//Be the Medicine - ECPv6.15.20//NONSGML v1.0//EN
CALSCALE:GREGORIAN
METHOD:PUBLISH
X-ORIGINAL-URL:https://bethemedicine.com
X-WR-CALDESC:Events for Be the Medicine
REFRESH-INTERVAL;VALUE=DURATION:PT1H
X-Robots-Tag:noindex
X-PUBLISHED-TTL:PT1H
BEGIN:VTIMEZONE
TZID:UTC
BEGIN:STANDARD
TZOFFSETFROM:+0000
TZOFFSETTO:+0000
TZNAME:UTC
DTSTART:20230101T000000
END:STANDARD
END:VTIMEZONE
BEGIN:VEVENT
DTSTART;TZID=UTC:20240629T140000
DTEND;TZID=UTC:20240701T130000
DTSTAMP:20260423T111040
CREATED:20240112T010433Z
LAST-MODIFIED:20240521T121731Z
UID:3790-1719669600-1719838800@bethemedicine.com
SUMMARY:Women's Treasure Yourself Retreat
DESCRIPTION:This retreat has been canceled – the dates do not work for many.\nJoin us in our July Retreat\, 7/26-28\, at the same location. \n\n\n\n\n\n\n\n\n\n\n\n\n\n\n\nShamanic Vision Quest Weekend Retreat Catskills \n \nWe are on a beautiful property with cabins and a main retreat house with comfortable beds. Comfortable camping is available for those who want to sleep in nature. Bathrooms in the main house and outdoor plumbing for campers include a hot shower and a regular toilet. A full modern kitchen allows us to eat in luxury. \n“This healing space is not hard or fearful; there are gentle transitions that you can feel and a sense that is mirrored with your companions- hearing their stories validates you. Your intimate personal struggles are not so different – different faces and places\, the essence of being human\, are shared in a safe space with no judgment. Janet makes it fun\, light-hearted\, and no big deal. StraightArrow accurately reads where you are and speaks the words that bring insights that change your landscape for you and new perspectives about everyone in your life. Everyone feels included and supported\, all of the pieces of the space\, place and time are honored.”
URL:https://bethemedicine.com/event/womens-treasure-yourself-retreat/2024-06-29/
LOCATION:Art Farm\, Fawn lane Accord NY\, NY\, United States
CATEGORIES:Advanced Healer,Ceremony,Clear Mind,Ego Healing,Energy Medicine,Healing,Healing Circle,peaceful living,personal mastery
ATTACH;FMTTYPE=image/jpeg:https://bethemedicine.com/wp-content/uploads/2024/01/iStock-1455127089-scaled.jpeg
ORGANIZER;CN="Janet StraightArrow":MAILTO:Janet@Bethemedicine.com
END:VEVENT
BEGIN:VEVENT
DTSTART;TZID=UTC:20240630T140000
DTEND;TZID=UTC:20240702T130000
DTSTAMP:20260423T111040
CREATED:20240112T010433Z
LAST-MODIFIED:20240521T121732Z
UID:3791-1719756000-1719925200@bethemedicine.com
SUMMARY:Women's Treasure Yourself Retreat
DESCRIPTION:This retreat has been canceled – the dates do not work for many.\nJoin us in our July Retreat\, 7/26-28\, at the same location. \n\n\n\n\n\n\n\n\n\n\n\n\n\n\n\nShamanic Vision Quest Weekend Retreat Catskills \n \nWe are on a beautiful property with cabins and a main retreat house with comfortable beds. Comfortable camping is available for those who want to sleep in nature. Bathrooms in the main house and outdoor plumbing for campers include a hot shower and a regular toilet. A full modern kitchen allows us to eat in luxury. \n“This healing space is not hard or fearful; there are gentle transitions that you can feel and a sense that is mirrored with your companions- hearing their stories validates you. Your intimate personal struggles are not so different – different faces and places\, the essence of being human\, are shared in a safe space with no judgment. Janet makes it fun\, light-hearted\, and no big deal. StraightArrow accurately reads where you are and speaks the words that bring insights that change your landscape for you and new perspectives about everyone in your life. Everyone feels included and supported\, all of the pieces of the space\, place and time are honored.”
URL:https://bethemedicine.com/event/womens-treasure-yourself-retreat/2024-06-30/
LOCATION:Art Farm\, Fawn lane Accord NY\, NY\, United States
CATEGORIES:Advanced Healer,Ceremony,Clear Mind,Ego Healing,Energy Medicine,Healing,Healing Circle,peaceful living,personal mastery
ATTACH;FMTTYPE=image/jpeg:https://bethemedicine.com/wp-content/uploads/2024/01/iStock-1455127089-scaled.jpeg
ORGANIZER;CN="Janet StraightArrow":MAILTO:Janet@Bethemedicine.com
END:VEVENT
BEGIN:VEVENT
DTSTART;TZID=UTC:20240716T190000
DTEND;TZID=UTC:20240716T211500
DTSTAMP:20260423T111040
CREATED:20240715T155406Z
LAST-MODIFIED:20260204T175934Z
UID:3878-1721156400-1721164500@bethemedicine.com
SUMMARY:Soul Shamanism Ongoing Tuesday Class
DESCRIPTION:We continue learning how to navigate our Soul Shamanism core practices for healing and learning. \nWe learn and experience more each night\, moving us deeply into our lives\, health\, and purpose. \nTeachings and Journeys are recorded on Zoom so you can continue practicing independently. \nThis is a progressive learning and healing experience. \nPrepay to receive the Zoom link. \nBoth nights are $150 or $75. a night. 3 minimum students. \nSign up one week before. \nYou are welcome to join us if you have completed at least Soul Shamanism 101. Tuesdays. 7-9:15 PM \nEmail Me 973-647-2500 \nAs we gather together\, we learn and support one another. Walk your walk with surety\, wisdom\, and grace. \nThis practice allows continual growth\, healing\, and wisdom to guide our lives and live our truth and purpose as it inspires enlightenment. Once mastered\, this practice replaces almost all practices and tools to accomplish healing and personal and spiritual mastery. \nThese life-changing classes open us to heavenly levels of reality. We have the experience and find unconditional love\, universal truth\, and our true self inside of us. \n“Our life makes sense when we discover the truth of our soul. Knowing who we are as the person we were born to be in this body and lifetime unfolds and is supported in many ways.” Janet StraightArrow\nOffered once a month on Zoom.
URL:https://bethemedicine.com/event/soul-shamanism-ongoing-tuesday-class/2024-07-16/
LOCATION:Zoom\, 247 North Road\, Chester\, NJ\, 07930\, United States
CATEGORIES:Self Healing,Shamanism,Soul Shamanism,Spiritual Healing,wisdom
ATTACH;FMTTYPE=image/jpeg:https://bethemedicine.com/wp-content/uploads/2023/04/soul-shamanism.jpg
ORGANIZER;CN="Janet StraightArrow":MAILTO:Janet@Bethemedicine.com
END:VEVENT
BEGIN:VEVENT
DTSTART;VALUE=DATE:20240726
DTEND;VALUE=DATE:20240729
DTSTAMP:20260423T111040
CREATED:20240112T005823Z
LAST-MODIFIED:20240626T154513Z
UID:3689-1721952000-1722211199@bethemedicine.com
SUMMARY:Shamanic Vision Quest Weekend Retreat Catskills
DESCRIPTION:Shamanic Vision Quest Weekend Retreat\n\n\n\n\n\n\n\n\n\n\n\n\n\n\nPeople come to these intensives to reach new levels of inner wisdom and truth and to release anything that stands in their way. \nThis retreat is open to women who are called to join us. \nIf we have not worked together before\, I require a meeting with me in person or via Zoom to ensure this event matches you. \nAre you ready for a deep connection to you\, your life purpose\, and your direction? Are you moving through a significant change this year? Come for a great weekend of ceremony\, journeys\, transformation\, and rebirth with Shaman Janet StraightArrow. \nYou will enjoy a gentle\, deep journey\, enjoying more time in nature and experiencing more Shamanic tools and practices to support reconnecting to all of nature and life. We will work in the Medicine Wheel and create a powerful sacred space for ourselves all weekend in new ways to take home with you\, live in your home\, and experience the new life that unfolds from here. \nA Vision Quest is an opportunity to be in a sacred space to hear your heart speak\, receive the fullness of who you are\, and open up to the next stage of your life path. It is a gift that is magical\, deep\, and transformative. You have a guide\, Janet Straight Arrow\, who is close by when you are alone\, and yet you are far enough away to have privacy and a feeling of oneness with you. \nA Vision Quest is a rite of passage taken by various traditions as you move through a period of change\, a more profound spiritual awakening\, or any shift point or loss in your life. \n\n\n\n\n\n\n\n\n\n\n\n\nIt is a gentle\, loving process\, and Janet is unconditionally loving and supportive with healthy boundaries and wisdom. Sign up and begin the journey. \n“Janet StraightArrow provides an unparalleled opportunity to bring you to the real you. It’s a well-worn path for her; she knows every part of this amazing journey. Janet emanates love\, respect\, and\, most of all\, joy in this great adventure. If you are ready to walk the path back to you – there is no better guide\, teacher\, mentor\, and friend than Janet StraightArrow.” \n\nWe meet at Art Farm on Friday at 3 p.m. and enjoy a gentle ceremonial weekend of reflection\, connection\, intention\, release\, and manifestation until 1 p.m. Sunday. Our first circle is after dinner\, so if you have to work on Friday\, come as soon as possible. There will be traffic later in the day. \nThere is a beautiful campground with an outdoor hot shower and flush toilet. You can also choose the group cabin with separate spaces inside our lodge. We rent the entire farm so you can enjoy privacy and safety. \nAll participants will receive emails to support their preparation for this weekend of letting go of the past and stepping into the next phase of their lives. \nWe bring our healthy food to eat or share with the group as decided. We have a full kitchen with all the appliances. Working together in the e kitchen and eating as a group is lovely. \nThe individual cost is $650\, paid in full by July 15. The fee is $675\, paid in full after July 15. \nThis price includes housing. A complete newsletter of information is linked here.\nPlease reach out to Janet@Bethemedicine.com or 973-647-2500 with questions. \nPAYMENTS \nZelle 973-647-2500 Janetstarightarrow@gmail.com \nVenmo same phone and email @janet-straightarrow add 3% \nCredit Cards www.PayPal.me/janetstraightarrow add 3% \nContact Janet for the address and details for payment by check. \nJanet StraightArrow provides a safe place to become vulnerable. Her love\, compassion\, and laughter show us how to return to living life as a child. Free\, happy\, and whole\, she allows you the space to become and remember the truth of the real you. Thank you\, Janet\, for walking alongside me on my journey. \nJanet is a midwife who holds each soul in love and bliss\, helping them to surrender and be known. Every word that flows out touches everyone\, clearing limiting beliefs and rebuilding perfect mental\, physical\, and spiritual health. She is a blessing to all.”
URL:https://bethemedicine.com/event/shamanic-vision-quest-retreat/2024-07-26/
LOCATION:Art Farm\, Fawn lane Accord NY\, NY\, United States
CATEGORIES:Ceremony,Channeling,community event,Energy Medicine,Healing Circle,Mindfulness,peaceful living,personal mastery,Retreat,Shamanism,Vision Quest,Wisdom Circle
ATTACH;FMTTYPE=image/jpeg:https://bethemedicine.com/wp-content/uploads/2022/12/thumbnail_iStock-664195282.jpg_1672245826.jpeg
ORGANIZER;CN="Janet StraightArrow":MAILTO:Janet@Bethemedicine.com
END:VEVENT
BEGIN:VEVENT
DTSTART;VALUE=DATE:20240727
DTEND;VALUE=DATE:20240730
DTSTAMP:20260423T111040
CREATED:20240112T005823Z
LAST-MODIFIED:20240626T154513Z
UID:3792-1722038400-1722297599@bethemedicine.com
SUMMARY:Shamanic Vision Quest Weekend Retreat Catskills
DESCRIPTION:Shamanic Vision Quest Weekend Retreat\n\n\n\n\n\n\n\n\n\n\n\n\n\n\nPeople come to these intensives to reach new levels of inner wisdom and truth and to release anything that stands in their way. \nThis retreat is open to women who are called to join us. \nIf we have not worked together before\, I require a meeting with me in person or via Zoom to ensure this event matches you. \nAre you ready for a deep connection to you\, your life purpose\, and your direction? Are you moving through a significant change this year? Come for a great weekend of ceremony\, journeys\, transformation\, and rebirth with Shaman Janet StraightArrow. \nYou will enjoy a gentle\, deep journey\, enjoying more time in nature and experiencing more Shamanic tools and practices to support reconnecting to all of nature and life. We will work in the Medicine Wheel and create a powerful sacred space for ourselves all weekend in new ways to take home with you\, live in your home\, and experience the new life that unfolds from here. \nA Vision Quest is an opportunity to be in a sacred space to hear your heart speak\, receive the fullness of who you are\, and open up to the next stage of your life path. It is a gift that is magical\, deep\, and transformative. You have a guide\, Janet Straight Arrow\, who is close by when you are alone\, and yet you are far enough away to have privacy and a feeling of oneness with you. \nA Vision Quest is a rite of passage taken by various traditions as you move through a period of change\, a more profound spiritual awakening\, or any shift point or loss in your life. \n\n\n\n\n\n\n\n\n\n\n\n\nIt is a gentle\, loving process\, and Janet is unconditionally loving and supportive with healthy boundaries and wisdom. Sign up and begin the journey. \n“Janet StraightArrow provides an unparalleled opportunity to bring you to the real you. It’s a well-worn path for her; she knows every part of this amazing journey. Janet emanates love\, respect\, and\, most of all\, joy in this great adventure. If you are ready to walk the path back to you – there is no better guide\, teacher\, mentor\, and friend than Janet StraightArrow.” \n\nWe meet at Art Farm on Friday at 3 p.m. and enjoy a gentle ceremonial weekend of reflection\, connection\, intention\, release\, and manifestation until 1 p.m. Sunday. Our first circle is after dinner\, so if you have to work on Friday\, come as soon as possible. There will be traffic later in the day. \nThere is a beautiful campground with an outdoor hot shower and flush toilet. You can also choose the group cabin with separate spaces inside our lodge. We rent the entire farm so you can enjoy privacy and safety. \nAll participants will receive emails to support their preparation for this weekend of letting go of the past and stepping into the next phase of their lives. \nWe bring our healthy food to eat or share with the group as decided. We have a full kitchen with all the appliances. Working together in the e kitchen and eating as a group is lovely. \nThe individual cost is $650\, paid in full by July 15. The fee is $675\, paid in full after July 15. \nThis price includes housing. A complete newsletter of information is linked here.\nPlease reach out to Janet@Bethemedicine.com or 973-647-2500 with questions. \nPAYMENTS \nZelle 973-647-2500 Janetstarightarrow@gmail.com \nVenmo same phone and email @janet-straightarrow add 3% \nCredit Cards www.PayPal.me/janetstraightarrow add 3% \nContact Janet for the address and details for payment by check. \nJanet StraightArrow provides a safe place to become vulnerable. Her love\, compassion\, and laughter show us how to return to living life as a child. Free\, happy\, and whole\, she allows you the space to become and remember the truth of the real you. Thank you\, Janet\, for walking alongside me on my journey. \nJanet is a midwife who holds each soul in love and bliss\, helping them to surrender and be known. Every word that flows out touches everyone\, clearing limiting beliefs and rebuilding perfect mental\, physical\, and spiritual health. She is a blessing to all.”
URL:https://bethemedicine.com/event/shamanic-vision-quest-retreat/2024-07-27/
LOCATION:Art Farm\, Fawn lane Accord NY\, NY\, United States
CATEGORIES:Ceremony,Channeling,community event,Energy Medicine,Healing Circle,Mindfulness,peaceful living,personal mastery,Retreat,Shamanism,Vision Quest,Wisdom Circle
ATTACH;FMTTYPE=image/jpeg:https://bethemedicine.com/wp-content/uploads/2022/12/thumbnail_iStock-664195282.jpg_1672245826.jpeg
ORGANIZER;CN="Janet StraightArrow":MAILTO:Janet@Bethemedicine.com
END:VEVENT
BEGIN:VEVENT
DTSTART;VALUE=DATE:20240728
DTEND;VALUE=DATE:20240731
DTSTAMP:20260423T111040
CREATED:20240112T005823Z
LAST-MODIFIED:20240626T154514Z
UID:3793-1722124800-1722383999@bethemedicine.com
SUMMARY:Shamanic Vision Quest Weekend Retreat Catskills
DESCRIPTION:Shamanic Vision Quest Weekend Retreat\n\n\n\n\n\n\n\n\n\n\n\n\n\n\nPeople come to these intensives to reach new levels of inner wisdom and truth and to release anything that stands in their way. \nThis retreat is open to women who are called to join us. \nIf we have not worked together before\, I require a meeting with me in person or via Zoom to ensure this event matches you. \nAre you ready for a deep connection to you\, your life purpose\, and your direction? Are you moving through a significant change this year? Come for a great weekend of ceremony\, journeys\, transformation\, and rebirth with Shaman Janet StraightArrow. \nYou will enjoy a gentle\, deep journey\, enjoying more time in nature and experiencing more Shamanic tools and practices to support reconnecting to all of nature and life. We will work in the Medicine Wheel and create a powerful sacred space for ourselves all weekend in new ways to take home with you\, live in your home\, and experience the new life that unfolds from here. \nA Vision Quest is an opportunity to be in a sacred space to hear your heart speak\, receive the fullness of who you are\, and open up to the next stage of your life path. It is a gift that is magical\, deep\, and transformative. You have a guide\, Janet Straight Arrow\, who is close by when you are alone\, and yet you are far enough away to have privacy and a feeling of oneness with you. \nA Vision Quest is a rite of passage taken by various traditions as you move through a period of change\, a more profound spiritual awakening\, or any shift point or loss in your life. \n\n\n\n\n\n\n\n\n\n\n\n\nIt is a gentle\, loving process\, and Janet is unconditionally loving and supportive with healthy boundaries and wisdom. Sign up and begin the journey. \n“Janet StraightArrow provides an unparalleled opportunity to bring you to the real you. It’s a well-worn path for her; she knows every part of this amazing journey. Janet emanates love\, respect\, and\, most of all\, joy in this great adventure. If you are ready to walk the path back to you – there is no better guide\, teacher\, mentor\, and friend than Janet StraightArrow.” \n\nWe meet at Art Farm on Friday at 3 p.m. and enjoy a gentle ceremonial weekend of reflection\, connection\, intention\, release\, and manifestation until 1 p.m. Sunday. Our first circle is after dinner\, so if you have to work on Friday\, come as soon as possible. There will be traffic later in the day. \nThere is a beautiful campground with an outdoor hot shower and flush toilet. You can also choose the group cabin with separate spaces inside our lodge. We rent the entire farm so you can enjoy privacy and safety. \nAll participants will receive emails to support their preparation for this weekend of letting go of the past and stepping into the next phase of their lives. \nWe bring our healthy food to eat or share with the group as decided. We have a full kitchen with all the appliances. Working together in the e kitchen and eating as a group is lovely. \nThe individual cost is $650\, paid in full by July 15. The fee is $675\, paid in full after July 15. \nThis price includes housing. A complete newsletter of information is linked here.\nPlease reach out to Janet@Bethemedicine.com or 973-647-2500 with questions. \nPAYMENTS \nZelle 973-647-2500 Janetstarightarrow@gmail.com \nVenmo same phone and email @janet-straightarrow add 3% \nCredit Cards www.PayPal.me/janetstraightarrow add 3% \nContact Janet for the address and details for payment by check. \nJanet StraightArrow provides a safe place to become vulnerable. Her love\, compassion\, and laughter show us how to return to living life as a child. Free\, happy\, and whole\, she allows you the space to become and remember the truth of the real you. Thank you\, Janet\, for walking alongside me on my journey. \nJanet is a midwife who holds each soul in love and bliss\, helping them to surrender and be known. Every word that flows out touches everyone\, clearing limiting beliefs and rebuilding perfect mental\, physical\, and spiritual health. She is a blessing to all.”
URL:https://bethemedicine.com/event/shamanic-vision-quest-retreat/2024-07-28/
LOCATION:Art Farm\, Fawn lane Accord NY\, NY\, United States
CATEGORIES:Ceremony,Channeling,community event,Energy Medicine,Healing Circle,Mindfulness,peaceful living,personal mastery,Retreat,Shamanism,Vision Quest,Wisdom Circle
ATTACH;FMTTYPE=image/jpeg:https://bethemedicine.com/wp-content/uploads/2022/12/thumbnail_iStock-664195282.jpg_1672245826.jpeg
ORGANIZER;CN="Janet StraightArrow":MAILTO:Janet@Bethemedicine.com
END:VEVENT
END:VCALENDAR