BEGIN:VCALENDAR
VERSION:2.0
PRODID:-//Be the Medicine - ECPv6.15.20//NONSGML v1.0//EN
CALSCALE:GREGORIAN
METHOD:PUBLISH
X-ORIGINAL-URL:https://bethemedicine.com
X-WR-CALDESC:Events for Be the Medicine
REFRESH-INTERVAL;VALUE=DURATION:PT1H
X-Robots-Tag:noindex
X-PUBLISHED-TTL:PT1H
BEGIN:VTIMEZONE
TZID:UTC
BEGIN:STANDARD
TZOFFSETFROM:+0000
TZOFFSETTO:+0000
TZNAME:UTC
DTSTART:20230101T000000
END:STANDARD
END:VTIMEZONE
BEGIN:VEVENT
DTSTART;TZID=UTC:20240206T150000
DTEND;TZID=UTC:20240206T163000
DTSTAMP:20260423T051856
CREATED:20231214T133044Z
LAST-MODIFIED:20231214T133044Z
UID:3610-1707231600-1707237000@bethemedicine.com
SUMMARY:Introduction to Be The Medicine
DESCRIPTION:  \nIn this experience\, we will learn simple\, straightforward ways to be present in our body and life with tools and teachings that support our life’s journey. This is a Private Group Class on Zoom. Janet is available to be a guest speaker in your group. \nBe The Medicine is a “how-to” be our true highest Self\, heal body\, mind\, and spirit\, and live it in everyday life. We are all brilliant and capable and have been taught against us in myriad ways. Janet’s mission and purpose have been to create a clear path from foundational beginnings to very advanced consciousness levels. \nIn this time of spiritual awakening and living our purpose\, our focus at Be The Medicine is your healing journey and awakening. Our professional pieces of training all fully engage you to participate in the process. Being a healer\, teacher\, or whatever your role in work and life is about being it and not just doing it. \nGrounded in truth and love\, the interference clears\, and we discover how simple life can be\, even in its unique complexities. We explore challenges and personal growth in relationships\, health\, family life\, spiritual-life journey\, purpose\, career\, and business. All are raised to our highest level of ability\, awareness\, responsibility\, joy\, and accomplishment. \nClasses are profound and simple\, as the highest truth becomes blissfully clear. We have fun exploring our gifts and releasing ego\, fear\, expectations\, and attachment to receive a clear vision for others and ourselves first. Whichever class you are guided to take will surprise you as it answers exactly what you want to know. \nBe The Medicine teachings are found in each\, and every class taught. Learn\, heal\, become present\, accessible\, and so much more than you ever knew you could before. We learn to trust ourselves and embrace our fantastic Self. There are also workshops and trainings for individual focus steps. \nNo matter who we are and what we want to learn\, heal\, or solve the teachings and tools help us get to where we want to go and beyond. PS. We have fun on the journey. \nOur workshops and Be The Medicine classes offer a neutral\, practical spiritual foundation to live our lives with wisdom\, knowledge\, confidence\, peace\, love\, and joy. \nJanet has simplified profound ways to be in the present\, quiet your mind\, explore your true Self\, and understand how to travel the more remarkable journey.
URL:https://bethemedicine.com/event/introduction-to-be-the-medicine/
LOCATION:Zoom\, 247 North Road\, Chester\, NJ\, 07930\, United States
CATEGORIES:Clear Mind,Energy Medicine,Healing Circle,Wisdom Circle
ATTACH;FMTTYPE=image/jpeg:https://bethemedicine.com/wp-content/uploads/2022/08/Janetarmsopen19.jpeg
ORGANIZER;CN="Janet StraightArrow":MAILTO:Janet@Bethemedicine.com
END:VEVENT
BEGIN:VEVENT
DTSTART;TZID=UTC:20240217T100000
DTEND;TZID=UTC:20240217T170000
DTSTAMP:20260423T051856
CREATED:20240102T140911Z
LAST-MODIFIED:20240102T140911Z
UID:3654-1708164000-1708189200@bethemedicine.com
SUMMARY:Reiki Master Training Graduation Day
DESCRIPTION:This course is about healing Mastery and how to walk the walk and develop our energy and abilities to share this with others. This course leads you to Mastery in Reiki Healing and Teaching and offers a pathway to continue the journey as you walk from here. You receive complete Reiki Master Healer-Teacher Training\, preparing you personally and professionally to assist people as a healing presence and facilitator. \n  \nWe have been together for nine months\, learning\, healing\, and working in person and remotely.
URL:https://bethemedicine.com/event/reiki-master-training-graduation-day/
LOCATION:NJ
END:VEVENT
BEGIN:VEVENT
DTSTART;TZID=UTC:20240223T090000
DTEND;TZID=UTC:20240223T150000
DTSTAMP:20260423T051856
CREATED:20231213T211317Z
LAST-MODIFIED:20240219T123119Z
UID:3214-1708678800-1708700400@bethemedicine.com
SUMMARY:Reiki 1 Certificate Training - Heal You and Others
DESCRIPTION:REIKI 1 ENERGY MEDICINE TRAINING  \n\nThis class focuses on Self Healing\, Spiritual Growth\, and Healing people and animals.\n\nOne Day Intensive Friday\, February 23\, 9 AM to 3 PM. A follow-up Zoom call is included for the group.\n\n\n\nLearn this hands-on art for Healers and everyone Ready to Heal Themselves and others. This is the beginning of a beautiful journey.\n\nEnergy medicine is a natural ability we all have as humans. In this course\, you receive initiations into the healing energy and learn how to work with it in your everyday life for yourself and others.\n\nThis practical\, comprehensive course offers personal healing and energy work teachings in addition to Reiki attunements\, meditations\, and practice\, with everyone receiving an entire healing session: Usui Reiki 1 Certificate\, Reiki 1 book\, and class recordings are included.\n\nLearn and be confident in your ability in energy healing\, spiritual awakening-growth\, working with spiritual guidance\, clearing\, and protecting yourself from taking on energy from others or the environment.\n\n\n\n\n\nPERSONAL. Reiki empowers your healing abilities. Reiki is used to speed up healing\, relieve pain\, aid sleep\, reduce stress\, improve circulation\, aid digestion\, increase energy and stamina\, balance the body\, clear negativity\, heighten psychic abilities\, aid connection to your higher power\, and much more! Healing can occur on all levels- physical\, emotional\, mental\, and spiritual.\n\n\n\nPROFESSIONAL. You will learn how to help heal yourself and others in your life. You are also trained to begin to work with clients if you choose to work professionally. Reiki is a perfect professional enhancement for massage therapists\, medical\, dental\, and veterinary practitioners\, ministers\, psychologists\, and all who reach out to help people and animals heal. So please come ready to learn and enjoy!\n\n\n\nDETAILS. You receive attunements to the Reiki 1 Universal energy\, which awakens healing in you and the ability to channel to others. We learn the beginning levels of scanning\, working with chakras\, and many levels of us and recovery. We experience meditations and connections to healing guides. We know hand positions\, intuitive healing\, and more\, along with the Reiki creed.\n\n\n\nTHE EXPERIENCE. Reiki is a hands-on method of bodywork. Hands are placed on or above the body according to your comfort. Each student has an opportunity to receive healing and give it as we practice with each other in every class. You leave feeling relaxed\, refreshed\, and energized.\n\n\n\nEXTRAS. Janet’s extensive years of experience and teaching offer a powerful opportunity to optimize the healing with added instructions to enhance your ability to use this in everyday life\, attain excellent results\, understand\, and give and receive deep healing and relaxation. You also learn how to work with energy in your daily life. Great class for Yoga teachers\, Psychologists\, Doctors\, Nutritionists\, Healers\, Parents\, Caregivers\, self-healing of diagnosis\, healing\, helping others and everyone.\n\n\n\nTEACHER. Janet StraightArrow\, Reiki Master\, Medical Intuitive\, Medium\, and Shaman\, has taught Reiki for 25 years. Janet began teaching healing in 1982—an energy healer for 30 years. Janet has participated in healing studies in many modalities over 56 years. Her experience working with many people brings you a lifetime of wisdom and information to heal and be comfortable in your process.\n\nComplete a 6-hour semi-private mall class for $395. \n\n\n\nSend payment ASAP to reserve your spot\, and Email me with your name and phone number. \nPreparation emails and Reiki 1 book sent to you. \nVenmo janet-straightarrow 2500 (Janetstraightarrow@gmail.com) \nZelle Janetstraightarrow@gmail.com 2500 \nCredit Cards www.PayPal.me/janetstraightarrow Please add 3% to pay with PayPal. \nChecks – email Janet@bethemedicine.com for details. \nDEPOSIT OR FULL PAYMENT NOW. \nCall me with any questions. Blessings\, Janet 973-647-2500 \n\nThe recording of the class and Reiki 1 book were added to the class. CE Credits available\n\n\nSee more about Reiki\, our Reiki Training\, Testimonials\, and Janet on the website \n\n\n\n\n\nReiki 1 Testimonial. “I found Janet to be a wonderful teacher; she is inspiring\, talented\, and sincere. I have benefited greatly from her teaching and healing. She has made me realize the power of my abilities to heal”.\n\n“After working with Janet as a student and now apprentice\, I have been amazed at how simply and easily Janet works with people. She teaches us how healing is normal and that we can open up to seeing\, feeling\, and knowing all we need to help ourselves and others. Janet holds the energy of love and unconditional acceptance and opens up to whatever comes to her as she progresses through a healing session. She laughs when we ask her what she is doing. In teaching us many tools\, she focuses on opening ourselves to our ability to align with our highest purpose and gifts and then to our client’s highest good for the session and life. In doing this\, we become the healing and stop doing healing. We are so different\, and Janet helps us be the best – us. In apprenticing Janet\, I am learning many tools and teachings and having many experiences\, yet she is apprenticing me to be myself. My purpose and way of healing and teaching differ from Janet’s\, yet she is helping me discover and develop my best self to offer to the world and myself\, too!”
URL:https://bethemedicine.com/event/reiki-1-certificate-training/
LOCATION:Be The Medicine\, Chester\, NJ\, 07930\, United States
CATEGORIES:Breath work,Channeling,Energy Medicine,Healing,Reiki,Reiki 1 Training,Reiki Training,Self Healing
ATTACH;FMTTYPE=image/jpeg:https://bethemedicine.com/wp-content/uploads/2023/10/iStock-1340271846-scaled.jpeg
ORGANIZER;CN="Janet StraightArrow":MAILTO:Janet@Bethemedicine.com
END:VEVENT
END:VCALENDAR