BEGIN:VCALENDAR
VERSION:2.0
PRODID:-//Be the Medicine - ECPv6.15.20//NONSGML v1.0//EN
CALSCALE:GREGORIAN
METHOD:PUBLISH
X-ORIGINAL-URL:https://bethemedicine.com
X-WR-CALDESC:Events for Be the Medicine
REFRESH-INTERVAL;VALUE=DURATION:PT1H
X-Robots-Tag:noindex
X-PUBLISHED-TTL:PT1H
BEGIN:VTIMEZONE
TZID:UTC
BEGIN:STANDARD
TZOFFSETFROM:+0000
TZOFFSETTO:+0000
TZNAME:UTC
DTSTART:20220101T000000
END:STANDARD
END:VTIMEZONE
BEGIN:VEVENT
DTSTART;TZID=UTC:20230212T190000
DTEND;TZID=UTC:20230212T203000
DTSTAMP:20260423T233010
CREATED:20221221T124924Z
LAST-MODIFIED:20230208T120733Z
UID:2676-1676228400-1676233800@bethemedicine.com
SUMMARY:Monthly Meditation Circle on Zoom
DESCRIPTION:TREAT YOURSELF \nExperience a memorable night of spiritual delights. \nLeave feeling refreshed\, empowered\, and peaceful. \nJoin us from anywhere for this Sunday night meditation gathering on Zoom 7-8:30 pm. Put these dates on your calendar – 2/12\, 3/12 \nEnd your weekend on Sunday night and prepare to begin your week with a deeply relaxing guided meditation allowing you to let go of stress\, be open to a night of good sleep\, and experience yourself from a centered\, empowered\, and clear place. \nEach session offers guided meditation\, teachings\, tools\, questions\, and sharing. Join us once a month. I love gathering people from near and far. \nTHIS MONTH’S FOCUS IS ON LOVE-SELF-LOVE-UNCONDITIONAL LOVE. \n\nHave you wondered about my classes and sessions? This is an opportunity for a nurturing journey – meditation that will bring you great connection\, comfort\, and wisdom. Enjoy this experience of love\, healing\, and wisdom that lights you up on your path.\n\nJoin us on March 12 too.\nEach session is as unique as the energy of the day and the people gathered.\nDonations suggested $35-40 – all offerings gratefully accepted. \nZelle\, 973-647-2500 Janetstraightarrow@gmail.com \nVenmo @janet-straightarrow 973-647-2500 Janetstraightarrow@gmail.com \nwww.PayPal.me/janetstraightarrow or checks sent ahead of time. \nI have been channeling powerful transformational meditations since 1999. As we move into 2023\, \nI like to offer opportunities for everyone to experience this and assist them in relaxing and moving forward in their lives. \nIf you have not studied or worked with me\, and even if you have\, you will enjoy a great experience\, feel fantastic\, and learn more. \nTeachings will be relevant for the night and people attending. Participation enhances the experience. Fun\, always fun\, too. \nYou will have the recordings of these meditations emailed to you to listen to again. \n“To have a true teacher who can communicate to everyone from different backgrounds the “truth” of “love\,” loving ourselves\, and loving each other\, is a rare and miraculous gift. She knows when you have a question and need to express yourself\, even if you might be afraid to. Janet kindly helps you reframe your words about yourself\, your feelings\, and others\, to be more aligned with love and truth. What a genuinely amazing experience and teacher.”  Yoga Teacher \nI have been involved in self-fulfillment programs for over 20 years\, yet since my work with Janet\, I have been able to delve into deeper areas and regain a greater sense of self. Last week\, I learned that opening my heart was not about giving away a part of me. Through a simple exercise that allowed the duality to dissipate and create the space for compassion to guide the potential for what my heart is now capable of.” Jeff Oras\, Holistic Dentist
URL:https://bethemedicine.com/event/powerful-meditation-circle-on-zoom/
LOCATION:Zoom\, 247 North Road\, Chester\, NJ\, 07930\, United States
CATEGORIES:Clear Mind,community event,Healing,Meditation Course,Mindfulness,peaceful living,Self Healing,wisdom
ATTACH;FMTTYPE=image/jpeg:https://bethemedicine.com/wp-content/uploads/2020/10/pexels-ave-calvar-martinez-4852352-scaled.jpg
ORGANIZER;CN="Janet StraightArrow":MAILTO:Janet@Bethemedicine.com
END:VEVENT
END:VCALENDAR