BEGIN:VCALENDAR
VERSION:2.0
PRODID:-//Be the Medicine - ECPv6.15.20//NONSGML v1.0//EN
CALSCALE:GREGORIAN
METHOD:PUBLISH
X-ORIGINAL-URL:https://bethemedicine.com
X-WR-CALDESC:Events for Be the Medicine
REFRESH-INTERVAL;VALUE=DURATION:PT1H
X-Robots-Tag:noindex
X-PUBLISHED-TTL:PT1H
BEGIN:VTIMEZONE
TZID:UTC
BEGIN:STANDARD
TZOFFSETFROM:+0000
TZOFFSETTO:+0000
TZNAME:UTC
DTSTART:20200101T000000
END:STANDARD
END:VTIMEZONE
BEGIN:VEVENT
DTSTART;VALUE=DATE:20210918
DTEND;VALUE=DATE:20210919
DTSTAMP:20260421T124403
CREATED:20210414T220804Z
LAST-MODIFIED:20210910T143610Z
UID:2025-1631923200-1632009599@bethemedicine.com
SUMMARY:Reiki Healer Bodywork Master Class
DESCRIPTION:I look forward to experiencing very advanced work in this class. Each person is served in the sessions and learning.\n\nAfter taking basic Reiki classes\, we go home and practice both personally and professionally. There is so much more to experience and learn.\nThese advanced classes offer more detailed instruction\, higher energy\, techniques\, teachings\, and possibilities. Reiki is a powerful way to open up healing and spiritual awakening in healers and our clients-students.\n\nIn these classes\, I share my 29 years of energy work and Shamanic healing practice working with thousands of clients and students and taking dozens of extra classes and modalities myself.\nFor all Reiki 1-2 and beyond\, students are called to advanced learning and practice. This series of advanced Reiki will go beyond where we have been and offer a professional level of learning about healing\, Reiki\, and what enhances our practice and results.\n\nThis is an advanced class for all Reiki Practitioners. In-Person in Morris County\, NJ.\nIn these classes\, Janet will teach more in-depth techniques and knowledge as we share table work. There are always more initiations\, deeper healing\, and profound learning.\n\nFull day $250.\n\nVenmo@ janet-straightarrow or Zelle @Janetstraightarrow@gmail.com or Credit card www.PayPal.me/JanetStraightArrow Checks\, Call 973-647-2500 Info@Bethemedicine.com www.bethemedicine.com
URL:https://bethemedicine.com/event/reiki-healer-bodywork-master-class/
LOCATION:Be The Medicine\, Chester\, NJ\, 07930\, United States
CATEGORIES:Advanced Healer,Channeling,Energy Medicine,Healing,Mindfulness,Ongoing Advanced Course,personal mastery,Reiki,Reiki Training,Spiritual Healing
ORGANIZER;CN="Janet StraightArrow":MAILTO:Janet@Bethemedicine.com
END:VEVENT
BEGIN:VEVENT
DTSTART;TZID=UTC:20210908T190000
DTEND;TZID=UTC:20211006T211500
DTSTAMP:20260421T124403
CREATED:20210801T115923Z
LAST-MODIFIED:20210901T005018Z
UID:2093-1631127600-1633554900@bethemedicine.com
SUMMARY:Reiki 2 Certificate Training - Advanced Teachings and Practice
DESCRIPTION: STILL A FEW SPOTS AVAILABLE \nI have extended this training for an extra full night session to allow comprehensive practice and learning to occur. \nPowerful healing and experience\, developing skill and confidence in our ability to send energy at a distance and use Reiki in many different ways to heal in our lives on the mental\, emotional\, physical\, and spiritual levels. \nWednesday nights September 8- October 6 from 7-9:15 pm on Zoom. Practice homework in between classes with students. \nJoin us for an Advanced Reiki 2 Practitioners Class With added teachings & Symbols. Begin your Reiki 2 journey with advanced teachings. A good refresher and update for current practitioners. Now more than ever\, we can use more Advanced Reiki Healing skills to send healing to people at home or worldwide. In this class\, you will learn how to safely send healing\, learn how to read energy and develop medical intuition skills. \nJanet StraightArrow holds a very high vibration of energy that is easily felt and experienced online. You removed very deeply into healing self and others as she initiated and taught you profound and simple healing ways in this class.\nWe move to the next level in living and using Reiki in our lives\, helping others and us. Increase our personal and professional healing energy and abilities. \n“I am so thankful to have had the time to take this class with Janet. She held such a beautiful space for us during Reiki 1 and 2 on Zoom. I loved taking these classes together\, working at physical to distant levels. I had so much fun expanding my mind and energy\, connecting with others and myself. Exploring the world of energy with Janet is magical!” All the best\, Rachel Sieradzki\, Body in Mind\, owner \nDistance Healing and perceiving is an amazing and useful skill to develop to assist people in healing themselves\, their homes\, land\, businesses\, and more at a distance. Learn to perceive\, see\, hear\, feel\, and know-how to practice\, heal\, and receive clear messages to support healing and clearing energy.\nThis advanced class accomplishes this with many methods\, distance practice\, and teachings that guide you. Janet is an expert at teaching you how to be confident and competent in healing anywhere and anytime. If you have taken Reiki 1 or have taken Reiki 2 before and would like an increase in energy\, healing\, learning\, and peace\, join us. \nLearn Remote and bodywork healing methods with Reiki symbols\, advanced scanning\, reading\, medical intuition\, and healing. We gain a deeper awareness of healing tools and ways to make healing changes in all areas of our life and with others. Learn through experience throughout the class.\nDays are spread out to allow students to learn through direct experience and distance practice to complete and embody the teachings. This is a comprehensive course that awakens healing abilities in-person and remotely. \nPrepay $450. includes book and recording on Zoom. If you have taken this class with me previously\, pay $225.\nVenmo @janet-straightarrow 973-647-2500 or Zelle Janetstraightarrow@gmail.com 973-647-2500 \nCredit Card on www.PayPal.me/JanetStraightArrow \nChecks to Janet StraightArrow 247 North Road\, Chester\, NJ 07930 \nCLASS OUTLINE\nReceive Reiki 2 initiations-attunements\nLearn Reiki Symbols and how to draw and use them in sessions.\nLearn how to scan and perform distance healing in six ways to send healing to others\, groups\, events\, self\, and more.\nLearn to heal the past\, present\, and future.\nHeal issues\, bless people\, deepen healing\, focus on healing places.\nWork with crystals\, meditations\, and guidance.\nUse Reiki for mental and emotional healing and positive choices.\nHomework in between classes to practice on other students at a distance.\nYou also practice using the symbols and teachings in your own life.\nEthics and how to work with clients
URL:https://bethemedicine.com/event/reiki-2-certificate-training/
LOCATION:Be The Medicine\, Chester\, NJ\, 07930\, United States
CATEGORIES:Distance Healing,Energy Medicine,Healing,Mindfulness,Reiki,Reiki Training,Self Healing
ORGANIZER;CN="Janet StraightArrow":MAILTO:Janet@Bethemedicine.com
END:VEVENT
BEGIN:VEVENT
DTSTART;TZID=UTC:20210607T190000
DTEND;TZID=UTC:20210628T213000
DTSTAMP:20260421T124403
CREATED:20210203T124339Z
LAST-MODIFIED:20210603T042755Z
UID:1887-1623092400-1624915800@bethemedicine.com
SUMMARY:Advanced Reiki 2 Distance Training Zoom
DESCRIPTION:4 Monday nights\, June 7-28. 7-9:30 pm \nJoin us for an Advanced Reiki 2 Practitioners Class With added teachings & Symbols. A good refresher or update for current practitioners. Now more than ever\, we can use more Advanced Reiki Healing skills to send healing to people at home or around the world. In this class\, you will learn how to safely send healing\, learn how to read energy and develop medical intuition skills.\nJanet StraightArrow holds a very high vibration of energy that is easily felt and experienced online. You removed very deeply into healing self and others as she initiated and taught you profound and simple healing ways in this class.\nWe move to the next level in living and using Reiki in our lives\, helping others and us. Increase our personal and professional healing energy and abilities.\n“I am so thankful to have had the time to take this class with Janet. She held such a beautiful space for us during Reiki 1 and 2 on Zoom. I loved taking these classes together\, working at physical to distant levels. I had so much fun expanding my mind and energy\, connecting with others and myself. Exploring the world of energy with Janet is magical!” All the best\, Rachel Sieradzki\, Body in Mind\, owner\nDistance Healing and perceiving is a very amazing and useful skill to develop to assist people in healing themselves\, their homes\, land\, businesses\, and more at a distance. Learn to perceive\, see\, hear\, feel\, and know-how to practice\, heal\, and receive clear messages to support healing and clearing energy.\nThis advanced class accomplishes this with many methods\, distance practice\, and teachings that guide you. Janet is an expert at teaching you how to be confident and competent in healing anywhere and anytime. If you have taken Reiki 1 or have taken Reiki 2 before and would like an increase in energy\, healing\, learning\, and peace\, join us.\nLearn Remote and bodywork healing methods with Reiki symbols\, advanced scanning\, reading\, medical intuition\, and healing. We gain a deeper awareness of healing tools and ways to make healing changes in all areas of our life and with others. Learn through experience throughout the class.\nDays are spread out to allow students to learn through direct experience and distance practice to complete and embody the teachings. This is a comprehensive course that awakens healing abilities in-person and remotely.\nPrepay $325. includes book and recording on Zoom. Payment after 5/31 is $350.\nVenmo @janet-straightarrow 973-647-2500 Credit Card on www.PayPal.me/JanetStraightArrow\nDiscounted. Our pre-COVID price was $425\nCLASS OUTLINE\nReceive Reiki 2 initiations-attunements\nLearn Reiki Symbols and how to draw and use them in sessions.\nLearn how to scan and perform distance healing in six ways to send healing to others\, groups\, events\, self\, and more.\nLearn to heal the past\, present\, and future.\nHeal issues\, bless people\, deepen healing\, focus on healing places.\nWork with crystals\, meditations\, and guidance.\nUse Reiki for mental and emotional healing and positive choices.\nHomework in between classes to practice on other students at a distance.\nYou also practice using the symbols and teachings in your own life.\nEthics and how to work with clients
URL:https://bethemedicine.com/event/advanced-reiki-2-distance-training-zoom-2021-06-14/
LOCATION:Be The Medicine\, Chester\, NJ\, 07930\, United States
CATEGORIES:Advanced Healer,Channeling,Distance Healing,Energy Medicine,Healing,Mindfulness,personal mastery,Reiki,Reiki Training,Spiritual Healing
ORGANIZER;CN="Janet StraightArrow":MAILTO:Janet@Bethemedicine.com
END:VEVENT
BEGIN:VEVENT
DTSTART;TZID=UTC:20210517T190000
DTEND;TZID=UTC:20210628T213000
DTSTAMP:20260421T124403
CREATED:20210129T211712Z
LAST-MODIFIED:20210410T084348Z
UID:1891-1621278000-1624915800@bethemedicine.com
SUMMARY:Reiki 1 & 2 Self & Distance Healers Training
DESCRIPTION:Reiki 1 is Mondays\, May\, 17 & 24. Reiki 2 segment is 4 Monday nights of June 7. 14\, 21\, 28. Off Memorial Day 5/31. \nJoin us for this powerful class that will give you the understanding and ability to heal you\, and help others heal in person and at a distance. We also change our focus to perfect health and how to achieve it. After teaching Reiki since 1996\, Janet designed an online program that meets the needs of people from everywhere.\nBlending the attunements and teachings for self-healing and healing others helps you build your immunity\, stay well\, energize\, and learn to send healing energy to someone in the next room or across the world. Daily practices for healing self and others.\nSix Monday nights on Zoom. For people new to Reiki and energy healing and a review for others. Everyone receives deep personal healing.\nThis exciting course offers practical healing and energy work teachings in addition to Reiki attunements\, meditations\, and practice\, with each student receiving a full healing session.\nLearn to Heal you and others with this Ancient practice that is now used in medical systems. Janet has been teaching Reiki since 1996 and brings incredible experience\, energy\, and information to all who attend this class.\nReiki empowers your own healing abilities. Reiki is used to speed up healing\, relieve pain and stress\, aids sleep\, improve circulation\, aid digestion\, increase energy and stamina\, balance the body\, clear negativity\, and heighten psychic abilities\, aids connection to your higher power\, and much more! Healing can occur on all levels- physical\, emotional\, mental\, and spiritual.\nYou receive sets of attunements to the Reiki 1 Universal energy\, which awakens healing in you and the ability to channel to others. We learn beginning levels of scanning and working with chakras and many levels of us and healing.\nWe experience meditations and connections to healing guides. We learn hand positions\, intuitive healing\, and more\, along with the Reiki creed.\nYou leave feeling relaxed\, refreshed\, and energized.\nPerfect class for Yoga teachers\, psychologists\, parents\, and caregivers to help others…everyone.\nReiki 2 attunements and Distance Healing perceiving are inspiring and useful skills to develop to help people heal themselves\, their homes\, land\, businesses\, and more at a distance.\nLearn Reiki Symbols and how to perceive\, see\, hear\, feel\, and know-how to practice\, heal\, and receive clear messages to support healing and clearing energy.\nLearn Remote and bodywork healing methods with Reiki symbols\, advanced scanning\, reading\, medical intuition\, and healing. We gain a deeper awareness of healing tools and ways to make healing changes in all areas of our life and with others. Learn through experience throughout the class.\nDays are spread out to allow students to learn through direct experience and distance practice to complete and embody the teachings. This is a comprehensive course that awakens healing abilities in-person and remotely.\nReceive a recording of this class and a Reiki 1 & 2 book\, and Reiki 1 & 2 Certificates.\nEarlyBird Discount $375. for both classes together\, paid by 5/12/21. $425 after.\nReiki 2 only $325. pay ASAP to receive the book to read. Reiki 2 begins on June 7. Zoom Link sent.\nVenmo @janet-straightarrow 973-647-2500\nZelle Janetstraightarrow@gmail.com 973-647-2500\nCredit Cards www.PayPal.me/JanetStraightArrow\n“My progressive work with Janet had given me life and health better than when I was younger. I no longer accept deterioration and pain\, and disease as a necessary part of aging. I have learned how to not only heal and reverse past problems but also prevent any new problems from becoming permanent.” Judy B\, Reiki Master Healer Teacher
URL:https://bethemedicine.com/event/reiki-1-2-energy-medicine-training-2021-05-24__trashed/2021-05-17/
LOCATION:Be The Medicine\, Chester\, NJ\, 07930\, United States
CATEGORIES:Distance Healing,Energy Medicine,Healing,Meditation Course,Mindfulness,Reiki,Reiki Training,Self Healing,Spiritual Healing
ATTACH;FMTTYPE=image/jpeg:https://bethemedicine.com/wp-content/uploads/2021/01/two-hands.jpg
ORGANIZER;CN="Janet StraightArrow":MAILTO:Janet@Bethemedicine.com
END:VEVENT
END:VCALENDAR