BEGIN:VCALENDAR
VERSION:2.0
PRODID:-//Be the Medicine - ECPv6.15.20//NONSGML v1.0//EN
CALSCALE:GREGORIAN
METHOD:PUBLISH
X-ORIGINAL-URL:https://bethemedicine.com
X-WR-CALDESC:Events for Be the Medicine
REFRESH-INTERVAL;VALUE=DURATION:PT1H
X-Robots-Tag:noindex
X-PUBLISHED-TTL:PT1H
BEGIN:VTIMEZONE
TZID:UTC
BEGIN:STANDARD
TZOFFSETFROM:+0000
TZOFFSETTO:+0000
TZNAME:UTC
DTSTART:20230101T000000
END:STANDARD
END:VTIMEZONE
BEGIN:VEVENT
DTSTART;TZID=UTC:20240305T190000
DTEND;TZID=UTC:20240305T211500
DTSTAMP:20260421T165721
CREATED:20240110T183329Z
LAST-MODIFIED:20240227T101614Z
UID:3658-1709665200-1709673300@bethemedicine.com
SUMMARY:Advanced Reiki 2 Certificate Training + Distance Healing
DESCRIPTION:For graduates of Reiki 1\, any school or teacher.\nJoin us and enjoy a magical blend of Reiki attunements\, teachings\, and practice for self-healing and healing others to assist you in building your immunity\, staying well and energized\, and learning to send healing energy to someone in the next room or across the world. Daily practices for healing self and others.\n\n\nFive nights on Zoom or in person in Chester\, NJ. For people new to Reiki 2\, energy healing and advanced teachings and practice for those who have taken Reiki 2 before and desire more training and practice. Everyone receives deep personal healing throughout this course. \nI love teaching this class over time as we practice on one another and other people in between classes\, developing confidence and skills. We have the time and space to become healers in a real sense and work with this amazing gift in everyday life. \nThis exciting course offers practical healing and energy work teachings in addition to Reiki attunements\, meditations\, and distance practice\, with each student receiving several full healing sessions. \nLearn to Heal yourself and others with this Ancient practice\, which is also used in hospitals and medical practices. Janet has been teaching Reiki since 1996 and brings incredible experience\, energy\, and information to all who attend this class. \nReiki empowers your healing abilities. Reiki speeds up healing\, relieves pain and stress\, aids sleep\, improves circulation and digestion\, and increases energy and stamina. Reiki also creates balance in the body\, clears negativity\, heightens psychic abilities\, aids connection to your higher power\, and much more! Healing can occur on all levels- physical\, emotional\, mental\, and spiritual. \nReiki 2 attunements and distance healing perception are inspiring and valuable skills to develop to assist people in healing themselves\, their homes\, land\, businesses\, and more at a distance. \nLearn Reiki Symbols and how to perceive\, see\, hear\, feel\, practice\, heal\, and receive clear messages to support healing and clearing energy. \nThis class offers medical intuition training; we learn to work with others as we heal ourselves in and between classes. \nBuild confidence in how to work with clients\, friends\, family\, and others in person and at a distance from setting up sessions\, intentions\, and client forms\, and learn various ways of perception and healing body\, mind\, emotions\, and spirit. \nLearn Remote and bodywork healing methods with Reiki symbols and advanced scanning\, reading\, medical intuition\, and healing. We gain a deeper awareness of healing tools and ways to make healing changes in all our lives and with others. Learn through experience throughout the class. \nThe class is extended over five weeks to allow students to learn through direct experience and distance practice to complete and embody the teachings. This is a comprehensive course that awakens healing abilities in person and remotely. \nTestimonial: “I am so thankful to have had the time to take this class with Janet. She held a beautiful space for us during Reiki 1 and 2 on Zoom. I loved taking these classes together\, working at physical and distant levels. I had so much fun expanding my mind and energy and connecting with strangers and myself. Exploring the world of energy with Janet is magical!” All the best\, Rachel Sieradzki\, Body in Mind Massage and Healing Center\, owner \n“I have taken numerous workshops and training in a lifetime and find Janet’s teachings the most powerful\, simple\, direct\, and extremely healing. Janet goes straight to the point/issue to heal the soul – Hence her name\, Straight Arrow. Janet lives the truth and teaches how to be in your truth\, making the journey fun along the way! Janet is down to earth\, loving\, and teaches from her heart. I look forward to continuing learning and growing with Janet.” \nCE’s available for several professions. I added an extra night to this class to offer more training and practice. A recording of all classes\, a book\, and full healing sessions for all are included. \nAdvanced Reiki 2 $525. Prepay and email me your name and phone number by 2/20 or ASAP to ensure your place in class and receive materials to prepare. We will extend the prepaid date if we have room in the course. \nVenmo janet-straightarrow janetstraightarrow@gmail.com \nZelle Janetstraightarrow@gmail.com \nPayPal for credit cards add 3% www.PayPal.me/janetstraightarrow \nCheck email me for the address. Janet@Bethemedicine.com
URL:https://bethemedicine.com/event/advanced-reiki-2-certificate-training-distance-healing/2024-03-05/
LOCATION:Be The Medicine\, Chester\, NJ\, 07930\, United States
CATEGORIES:Advanced Healer,Channeling,Distance Healing,Energy Medicine,Healing,Intuition,Ongoing Advanced Course,personal mastery,Reiki 2 Advanced Training,Reiki 2 Training
ATTACH;FMTTYPE=image/jpeg:https://bethemedicine.com/wp-content/uploads/2021/01/two-hands.jpg
ORGANIZER;CN="Janet StraightArrow":MAILTO:Janet@Bethemedicine.com
END:VEVENT
END:VCALENDAR