BEGIN:VCALENDAR
VERSION:2.0
PRODID:-//Be the Medicine - ECPv6.15.20//NONSGML v1.0//EN
CALSCALE:GREGORIAN
METHOD:PUBLISH
X-ORIGINAL-URL:https://bethemedicine.com
X-WR-CALDESC:Events for Be the Medicine
REFRESH-INTERVAL;VALUE=DURATION:PT1H
X-Robots-Tag:noindex
X-PUBLISHED-TTL:PT1H
BEGIN:VTIMEZONE
TZID:UTC
BEGIN:STANDARD
TZOFFSETFROM:+0000
TZOFFSETTO:+0000
TZNAME:UTC
DTSTART:20240101T000000
END:STANDARD
END:VTIMEZONE
BEGIN:VEVENT
DTSTART;TZID=UTC:20250917T080000
DTEND;TZID=UTC:20250917T170000
DTSTAMP:20260422T013054
CREATED:20250917T152511Z
LAST-MODIFIED:20250917T155527Z
UID:4835-1758096000-1758128400@bethemedicine.com
SUMMARY:Reiki 1 Energy Medicine Training - Heal You and Others Too
DESCRIPTION:Learn this hands-on practice for Healers and everyone\, Ready to Heal Themselves and others. Be ready to begin this beautiful journey. I am always honored to awaken this healing gift in each student. It is love\, beauty\, and awe to experience this beautiful class and energy. \nEnergy medicine is a natural ability we all have. In this course\, you will receive an initiation into healing energy and learn how to use it to energize you\, other people\, pets\, and food. \nEnjoy practical teachings on personal healing and energy work\, in addition to Reiki attunements\, meditations\, and practice. Everyone receives an entire healing session: Usui Reiki 1 Certificate\, Reiki 1 book\, and class recordings are included. \nLearn and be confident in your ability to heal\, awaken\, and grow spiritually\, working with spiritual guidance\, clearing\, and protecting yourself from taking on energy from others or the environment. \n \nBENEFITS OF REIKI.   \nReiki empowers your healing abilities. It can speed up healing\, relieve pain\, aid sleep\, reduce stress\, improve circulation\, aid digestion\, increase energy and stamina\, balance the body\, clear negativity\, heighten psychic abilities\, aid connection to your higher power\, and much more! Healing can occur on all levels: physical\, emotional\, mental\, and spiritual. \n“I found Janet to be a wonderful teacher; she is inspiring\, talented\, and sincere. I have benefited greatly from her teaching and healing. She has made me realize the power of my abilities to heal”. \nPROFESSIONAL ENHANCEMENT AND BEGINNINGS. \nYou will learn how to help heal yourself and others. You are also trained to begin working with clients if you choose to work professionally. Reiki is a perfect professional enhancement for massage therapists\, medical\, dental\, and veterinary practitioners\, ministers\, psychologists\, and all who reach out to help people and animals heal. So please come ready to learn and enjoy! \nDETAILS OF CLASS. \nYou receive attunements to the Reiki 1 Universal energy\, which awakens healing in you and the ability to channel to others. We learn the basics of scanning\, working with chakras\, and various levels of ourselves and recovery. We experience meditations and connections to healing guides. We know hand positions\, intuitive healing\, and more\, along with the Reiki creed. \nTHE EXPERIENCE. \nReiki is a hands-on method of bodywork. Hands are placed on or above the body according to your comfort. Each student has the opportunity to receive healing and give it as we practice together in every class. You leave feeling relaxed\, refreshed\, and energized. \nEXTRAS. \n“After working with Janet as a student and now apprentice\, I have been amazed at how simply and easily Janet works with people. She teaches us how healing is normal and that we can learn to see\, feel\, and know all we need to help ourselves and others.” \nJanet’s extensive years of experience and teaching offer a powerful opportunity to optimize healing with added instructions to enhance your ability to apply this in everyday life\, achieve excellent results\, understand\, and give and receive deep healing and relaxation. You also learn how to work with energy in your daily life. \nAn excellent class for Yoga teachers\, Psychologists\, Doctors\, Nutritionists\, Healers\, Parents\, Coaches\, Caregivers\, self-healing of diagnosis\, healing\, helping others\, and everyone. \nJanet StraightArrow \nREIKI MASTER HEALER-TEACHER. \nJanet StraightArrow has taught Reiki for 29 years. \n“Janet’s expertise offers us a lifetime of wisdom and understanding\, which allows us to feel safe and confident to use this energy with ourselves\, in our lives\, and with others.” \nJanet began teaching healing in 1982 and has been an energy healer for 31 years. Teaching Reiki since 1996. Janet has been involved in healing studies in many modalities for over 58 years. Her experience working with thousands of people brings a lifetime of healing\, wisdom\, and information to help you heal and feel comfortable in your process. \nTuition for $ 425. Two Days\, along with a recording of the class\, the Reiki 1 book\, and a follow-up. \nSend payment ASAP to reserve your spot and receive your book and forms to prepare. \nDEPOSIT $200\, or full payment now\, or by October 27. \nCall me with any questions. Blessings\, Janet 973-647-2500 \nA phone call is good for us to meet and for you to ask any questions. \nTO SIGN UP\, please email me your name and phone number\, and pay by any of the methods below. \nVenmo @janet-straightarrow 2500 (Janetstraightarrow@gmail.com) \nZelle 973-647-2500 Janetstraightarrow@gmail.com \nCredit Cards: Venmo\, or www.PayPal.me/janetstraightarrow \nChecks – email Janet@bethemedicine.com for details. \nCE Credits available for various professions\, \nSee more about Reiki\, our Reiki Training\, Testimonials\, and Janet on THIS WEBSITE
URL:https://bethemedicine.com/event/reiki-1-energy-medicine-training/
LOCATION:NJ
CATEGORIES:Channeling,Energy Medicine,Healing,Intuition,Mindfulness,peaceful living,Reiki,Reiki 1 Training,Reiki Training,Self Healing,Spiritual Healing,wisdom
ATTACH;FMTTYPE=image/jpeg:https://bethemedicine.com/wp-content/uploads/2025/06/iStock-1340440971-scaled.jpg
END:VEVENT
BEGIN:VEVENT
DTSTART;TZID=UTC:20260425T100000
DTEND;TZID=UTC:20260426T153000
DTSTAMP:20260422T013054
CREATED:20250917T185413Z
LAST-MODIFIED:20260420T133406Z
UID:4841-1777111200-1777217400@bethemedicine.com
SUMMARY:Reiki 1 Be The Medicine Energy Medicine Certificate Training
DESCRIPTION:Registration is closed for this class.\nARE YOU READY TO LEARN DIRECT WAYS TO HEAL?\n“It is always an honor and a joy to share this energy and practice with people. I feel like a midwife birthing new abilities\, healing\, peace\, and happiness with each student. A life-changing experience for all.” Janet StraightArrow\nLearn this hands-on practice and be ready to experience healing yourself and others. \nBE THE MEDICINE ADVANCED LEVEL TEACHINGS AND PRACTICE  \nThis is the beginning of a beautiful journey. You leave feeling relaxed\, refreshed\, confident\, and energized.\n“After working with Janet as a student and now apprentice\, I have been amazed at how simply and easily Janet works with people. She teaches us how healing is normal and that we can learn to see\, feel\, and know all we need to help ourselves and others.“\nReiki energy is a natural ability we all have. In this course\, you will receive initiations into healing energy and learn how to use it in your everyday life for yourself and others. The Usui Reiki 1 Certificate\, Reiki 1 book\, and class recordings are included. Janet brings 32 years of Reiki Healing experience to this class\, making it a highly confident learning experience. \nThis practical and comprehensive course offers teachings on personal healing and energy work\, as well as Reiki attunements\, meditations\, and practices. Everyone receives a complete healing session and learns through collaborative work. \nLeave being confident in your ability to heal\, awaken\, and grow spiritually\, working with spiritual guidance\, clearing self and others\, and protecting yourself from taking on energy from others or the environment. \nREIKI BENEFITS.\nReiki empowers your healing abilities. It can speed up healing\, relieve pain\, aid sleep\, reduce stress\, improve circulation\, aid digestion\, increase energy and stamina\, balance the body\, clear negativity\, heighten psychic abilities\, aid connection to your higher power\, and much more! Healing can occur on all levels: physical\, emotional\, mental\, and spiritual.\nAdding Be The Medicine teachings to this course helps you learn to heal yourself and others in immediate\, deep ways.\nJoin us for this special opportunity. This class is designed for healers seeking advanced methods to facilitate self-healing and the healing of others. I teach people\, not just material\, so our class will be focused on what I can channel best for the group. \nSixty years of healing studies\, focused on complete healing\, bring you great teachings\, experiences\, tools\, and stories to inspire healing. \nAdvanced levels of Bodywork and Intuitive skills working with spiritual guidance and support as well as understanding. Taking you beyond common teachings to advanced understandings opens more energy\, safety\, and practices. \n\nADD THIS TO YOUR HEALING BUSINESS AND EVERYDAY LIFE.\nYou learn how to help heal yourself and others. You are also trained to begin working with clients if you choose to work professionally\, as well as how to work with family\, friends\, and animals. Reiki is a valuable professional enhancement for massage therapists\, medical\, dental\, and veterinary practitioners\, ministers\, psychologists\, and anyone who helps people and animals heal. So please come ready to learn and enjoy!\nCLASS STRUCTURE.\nYou receive attunements to the Reiki 1 Universal energy\, which awakens healing in you and the ability to channel to others. We learn the basics of scanning\, working with chakras\, and various levels of ourselves and recovery. We experience meditations and connections to healing guides. We know hand positions\, intuitive healing\, and more\, along with the Reiki creed.\nTHE EXPERIENCE.\nReiki is a hands-on method of bodywork. Place your hands on or above your body as you feel comfortable. Each student has the opportunity to receive healing and give it as we practice together in every class.\nEXTRAS.\nOptimize the healing with added instructions to enhance your ability to use this in everyday life\, attain excellent results\, understand\, and give and receive deep healing and relaxation. You also learn how to work with energy in your daily life. We work with the Chakras\, Auras\, and more.\nYOUR REIKI MASTER TEACHER.\nJanet StraightArrow began teaching healing in 1981 and has been an energy healer for 32 years. Teaching Reiki for 30 years. Janet has studied\, taught\, and participated in healing studies across various modalities for 59 years. Her experience working with thousands of people brings a lifetime of wisdom and information to help you heal and feel comfortable in your process. Janet is also a Shaman with extensive experience in advanced energy healing across multiple dimensions. She brings all of this knowledge to you in this class and in sessions.\nTuition is $ 425—the same price for a decade—two-day class with a Zoom follow-up session. \nSend payment to reserve your spot and receive your book and preparation materials. \nPlease email me your name and phone number\, and pay by any of the methods below. \nVenmo @janet-straightarrow 2500 (Janetstraightarrow@gmail.com) \nZelle 973-647-2500 Janetstraightarrow@gmail.com \nCredit Cards\, Venmo\, or www.PayPal.me/janetstraightarrow \nChecks – email Janet@bethemedicine.com for details. \nDEPOSIT $200\, or full payment now\, or by December 27. \nCall me with any questions. Blessings\, Janet 973-647-2500 \nThe class recording and the Reiki 1 book are bonuses to help you learn and deepen your studies. CE Credits available for various professions\, \nSee more about Reiki\, our Reiki Training\, Testimonials\, and Janet on www.bethemedicine.com \nReiki 1 Testimonials. “I found Janet to be a wonderful teacher; she is inspiring\, talented\, and sincere. I have benefited greatly from her teaching and healing. She has made me realize the power of my abilities to heal”.\n“Janet’s expertise offers us a lifetime of wisdom and understanding\, which allows us to feel safe and confident to use this energy with ourselves\, in our lives\, and with others.”\n 
URL:https://bethemedicine.com/event/reiki-1-certificate-training-2/
LOCATION:Be The Medicine\, Chester\, NJ\, 07930\, United States
CATEGORIES:Channeling,Energy Medicine,Reiki,Reiki 1 Training
ATTACH;FMTTYPE=image/jpeg:https://bethemedicine.com/wp-content/uploads/2025/06/iStock-1146122624-scaled.jpeg
ORGANIZER;CN="Janet StraightArrow":MAILTO:Janet@Bethemedicine.com
END:VEVENT
END:VCALENDAR