BEGIN:VCALENDAR
VERSION:2.0
PRODID:-//Be the Medicine - ECPv6.15.20//NONSGML v1.0//EN
CALSCALE:GREGORIAN
METHOD:PUBLISH
X-ORIGINAL-URL:https://bethemedicine.com
X-WR-CALDESC:Events for Be the Medicine
REFRESH-INTERVAL;VALUE=DURATION:PT1H
X-Robots-Tag:noindex
X-PUBLISHED-TTL:PT1H
BEGIN:VTIMEZONE
TZID:UTC
BEGIN:STANDARD
TZOFFSETFROM:+0000
TZOFFSETTO:+0000
TZNAME:UTC
DTSTART:20250101T000000
END:STANDARD
END:VTIMEZONE
BEGIN:VEVENT
DTSTART;TZID=UTC:20260828T140000
DTEND;TZID=UTC:20260830T140000
DTSTAMP:20260421T144952
CREATED:20260213T001136Z
LAST-MODIFIED:20260420T133211Z
UID:5362-1787925600-1788098400@bethemedicine.com
SUMMARY:Soul Shamanism Retreat - A Weekend with Your Soul - Catskill Mountains
DESCRIPTION:“I accept the great adventure of being me\,” Simone de Beauvoir.\n\n\n\n\n\n\n\n\nA SACRED INVITATION\nThis is a profound opportunity for spiritual growth\, awareness\, and connection beyond anything you might have experienced. Universal wisdom allows students from all traditions to relate to\, experience\, learn from\, transcend\, and move deeply into their lives today. \n3 Days\, 2 Nights\, August 28-30. Zoom Follow-Up. Tuition $625. \nAlso offered May 29-31 in Northeastern PA\, Honesdale\, at the Himalayan Institute. \nJoin us on this journey to you. Imagine learning a direct process to know exactly who you are and why you are here now. Experience yourself on the most grounded human and spiritual levels to begin to know and live your authentic Self.\nWe learn to heal and trust ourselves on all levels as one divine human.\nIn this Ancient Siberian practice\, advanced-level awareness\, practice\, healing\, clearing\, and manifesting occur as we release all that interferes.\nJanet guides us with refined spiritual practices that help us move into this higher experience. We dive into our Spirit Lake\, a territory that reflects our body and life in direct ways\, informing us about what is occurring in our life\, health\, energy field\, relationships\, purpose\, and more.\nIn this divine dimension\, we feel at home. Next\, we meet our Soul\, called the Spirit Twin. Immediately\, we feel connected\, supported\, and loved\, and we begin to join body and Soul.\nAs we learn to navigate this territory and ourselves\, and learn how it works\, we align with universal laws and release ego limits. With continuous practice\, we continue to grow and find that our daily life transcends our trained limitations\, allowing us to live our authentic selves.\nOur Soul twin is our divine Self\, who loves us unconditionally\, knows our personality\, agreements\, contracts\, and lessons\, and offers us wisdom in everyday life. In this practice\, we begin to learn to walk our human and spiritual path with direct experience and understanding.\nFrom this day forward\, you will never feel alone. You will be empowered by the depth of who you are and all the spiritual connections and tools you’ve gained from this accelerated experiential class.Teaching seekers from children to elders has been exciting to experience and witness the deep personal connections and growth as they come home to themselves in myriad ways. You learn to trust your innate knowing\, intuition\, and Soul’s wisdom rather than struggle.\nWho Is This For?\nThis Soul Shamanism Training has been developed for healers\, teachers\, therapists\, coaches\, yogis\, and all seekers. Long-time Shamanic practitioners discover how this advanced spiritual practice empowers more direct healing and knowledge.\nOffering this training in a retreat setting allows participants to integrate and relax away from daily responsibilities. This nurturing spiritual container of the Himalayan Institute supports our journeys.\nThis comprehensive training includes:\n• All-new levels of teaching and experiences to deepen your journey.\n• A Soul Shamanism Divine Playbook to support your practice.\n• A recording of teachings with two practices to begin.\n• Lecture\, discussion\, shamanic journeys\, and other practices.\n• Extended Hours post-retreat. Follow-up sessions on Zoom\, allowing for full integration of this profound practice (Entire class sets dates for evening classes.\n• Recordings of the class journeys and new practices to work with independently.\nAfter completion\, you can join an ongoing group of practitioners on Zoom for growth\, learning\, and practice to continue your education and journey. There will also be further classes to experience more levels of the practice.\nTestimonials. Healing professionals and advanced seekers.\n \n“This weekend workshop with Janet StraightArrow is a weekend with your Soul. With humor\, wisdom\, honesty\, and compassion\, she guides you back to your true Self. It is an amazing experience that must be felt! And I can tell you\, you will never be the same. You will be transformed on a deep level; you will open to your gifts\, your strengths\, and embark on an exciting journey of discovery. This powerful first workshop with Janet blew me away. Be prepared to laugh\, because being with Janet is like being with a wise\, trusted friend. Be prepared to see things in a new way; her techniques are magically transforming and healing. I had a blast! PS. Janet teaches you in a way you don’t realize you’re being taught – the information amazingly flows into you. It is awesome!” Mary Nag. Reiki Master Healer-Teacher\n“Working with the Spirit Lake and Spirit twin is a beautiful complement to all the healing work I do. It allows me to delve deeper into other work and experience healing that is both immediate and enduring. Janet teaches in a way that is sacred and safe\, with wisdom and discernment that creates profound\, lasting results.”\n“The weekend was a learning about perception – moving out of my head and into pure experience. The tools of the art of perception were shared with clarity and power by Janet\, and I was able to use them immediately to access life lessons during my Shamanic Journeys. Janet is truly a gifted teacher.”\n“This class brought me to a place of being more centered with myself. The personal insights gained from practicing newly learned journeying and breathwork techniques were a magnificent gift to myself\, assisting me on my healing journey. These techniques are easy to learn and invaluable to all!”\n“My weekend with Janet was all about opening my mind\, heart\, and Soul. She created the space with her gentleness\, insight\, and warmth\, allowing this opening to unfold naturally. I appreciate how she can cull wisdom from ancient practices and apply it to each student’s experience. A powerful workshop.”\n“This workshop was a bringing together of me\, a way to access me and be with me. A very safe space to speak my truth without judgment\, shame\, punishment\, or shove. It solidified for me what the next step on my journey will be and provided a path toward it. Not only will this work support me on my journey\, but it will also impact all the Patients and clients I work with.”\nFrom Janet\, “I have been honored to be a midwife to thousands of people in this practice. When I introduced my 80-year-old mother to this practice\, she was in bliss and said\,” I feel at home for the first time.” Everyone has a Spirit Lake and twin. From here\, our journey is limitless.”\nTHE REAL DEAL “I have been working with Janet StraightArrow’s Soul Shamanism program for the past 5 years. Up until that point\, I had accrued many accomplishments in the Healing Arts: three Master Reiki certificates\, four courses of study with big-name Shamans\, Theta healing\, hypnotherapy\, and many others. There is absolutely nothing out there at the level of what Janet is teaching! She has brought me forward in my life and healing practice in an expanded\, beautiful way and upleveled me after many years of healing modalities that only brought me so far. Today\, my life flows as I live in alignment with my authentic self\, with the pain and traumas of the past transmuted and no longer playing out in my life. Janet is the real deal. Honest\, with kindness and integrity. She is a powerhouse healer while still being compassionate and accessible\, and very much in touch with her own humanity and story. This allows for vulnerability with safety and Love\, which equals deep Healing on all levels. I am well beyond grateful and highly recommend her programs.” Kim M. Roche\, Astrologer\, Reiki Master\, Shamanic Professional #transmute #soulhealing #wisdom #transform #ascend #practicalspiritual #advanced\nJANET STRAIGHTARROW LINEAGE\n“Janet’s teachings disintegrate the old neural pathways and create new ones to break out of old patterns that have been the default way of operating and living for generations and lifetimes. Her work lays the foundation for a new road for humanity’s future by merging ancient traditions with higher wisdom. Allowing the Soul and ego to work in harmony and unveiling the truth of being.” Tara Villani\, Astrologer\, Energy Healer\, Shamanic Practitioner.\nPractical Details \nTuition: $625. Deposit $250. Balance of $ 375. Due by August 1.  \nBring a friend and receive $50 off tuition for each of you.\nPayment Due: August 1. Limited class size. Join after August 1\, if there is space.\nHousing $170. Prepaid by August 15.\nTotal cost: Tuition and housing $795.\nPreparation Suggestion: A meditation practice — any style — is supportive.\nListen and practice the recorded class that Janet sends you when you sign up.\nSuggested\, not required. Read the book “Entering the Circle” by Olga Kharitidi\, MD\, a psychiatrist and shaman\, which references information about this practice and its lineage.\nWatch podcasts about Soul Shamanism and Be The Medicine Journey Videos with Janet on www.Bethemedicine.com website under StraightArrow Wisdom Tab-media.\nRegistration for this course is at the bottom of this page.\nFor a free introductory consult with Janet:\ncall 973 647 2500 or email Janet@BeTheMedicine.com\nART FARM RETREAT SPACE\n \nWe enjoy walks in the woods\, bonfires at night\, a star-filled sky\, an outdoor soaking tub\, visiting horses\, and a nature-spirit-filled property. Janet also leads us through advanced Shamanic practices.  \nOUR RETREAT SPACE: \nArt Farm is a farm converted to a retreat space in the Hudson Valley in the Catskill Mountains\, west of New Paltz\, off the NY Thruway and Route 209. Janet rents the cabins and acres of property for privacy. We have a main cabin and smaller cabins\, each equipped with linens for sleeping and working together. A pine forest campground has a flush toilet and an outdoor stone-lined hot shower for tent campers. We provide our food and have an ample\, fully equipped kitchen\, along with indoor and outdoor seating options. It is suggested that we prepare something simple to make the most of our time. \nTHE WEEKEND:  \nWe gather Friday afternoon\, settle in\, and enjoy a communal dinner. Friday night’s welcome ceremony marks the start of the weekend. We meet in sessions of learning and journeying throughout the weekend\, with space in between to integrate the energy and information we experience directly. We leave on Sunday\, before or after lunch\, as you decide. Our last session ends before noon. A follow-up evening of practice\, integration\, more learning\, and healing will be held on Zoom on a night we all agree on. \nA lovely community of people is always a delight to relax and be ourselves in this natural space. Dress comfortably with layers. Past students love this place for the feeling of home.\nREGISTRATION \n \nUpon registration\, Janet sends you a 75-minute recording with teachings and practice to prepare you for the weekend. This is a deep-level experience that you can grow with for the rest of your life. \nYou will also need to complete a student form. \nCall Janet for a consult before signing up\, 973-647-2500\, or email \nSign up early and secure your spot with a $250 deposit. Tuition: $625. Final payment $375. by August 1. Class size limited. Join us if there is space in the class after August 1.  \nTuition includes the entire weekend course and one additional night on Zoom. \nHousing $170. Due by August 15.\nBring a friend\, and you both receive $50 off tuition.\nA private in-person or Zoom session with Janet is recommended\, but not required\, to help prepare for the weekend.\nZelle 973-647-2500 Janet StraightArrow\nVenmo @janet-straightarrow 973-647-2500\nwww.PayPal.me/JanetStraightArrow\nChecks\, reach out to Janet at 973-647-2500 or Janet@Bethemedicine.com\nPlease reach out to Janet with any questions.\nYOUR GUIDE\, AND THE JOURNEY TO SOUL SHAMANISM\n“To have a true teacher who can communicate to everyone from different backgrounds the ‘truth’ of ‘love’\, loving ourselves and loving each other\, is a rare and miraculous gift. She knows when you have a question and need to express yourself\, even if you’re afraid to. Janet kindly helps you reframe your words about yourself\, your feelings\, and others to better align with love and truth. What a genuinely amazing experience and teacher.” Claudia Barish Teicher\, Yoga Teacher \n\nJanet StraightArrow is a Master Shaman\, Healer-Teacher\, Sage\, Yogi\, and Astrologer. \nAs a Shaman\, Janet holds a big energy of love and delight. She is honored and grateful to support the journeys of each person who is called to work with her. Six decades of focus and study on spirituality and healing have led her to experience and explore traditions and unexpected places worldwide\, offering people an exciting journey.\nJanet’s lifelong search has been to study and live the wisdom of the sages. She was born with the gift of discernment and the knowledge of Ancient Knowledge. Seeing the truth and illusions of what was happening in the world made it difficult for a child to understand.\nThe way people spoke and acted was often not aligned with the wisdom she understood. She experienced a lot of confusion\, yet innately knew and trusted universal truth\, love\, responsibility\, common sense\, and logic.\nIn 1967\, at the age of fifteen\, she was given a dire diagnosis\, without any hope. After recovering from shock\, she remembered the divine truth inspired by Jesus’s example and teachings. She knew we could heal ourselves and decided to learn how to do so\, becoming happy and healthy into old age.\nHer life’s mission\, Be The Medicine\, was born. She has been inspired to develop a universal path to help others become their own medicine. Now\, at the age of seventy-three\, Janet has reached the first stage of her goal. The next phase of the journey may be the best\, as she brings the journey’s fullness into the world.\nJanet’s life has been a progressive journey of study\, practice\, and living through each stage; new questions have always led to answers. There was always another book\, teacher\, master\, or practice to glean more clarity and wisdom. Janet relates to the spiritual healing and becoming journey as an adventure. Each step opened more truth and light to embrace. Her entire life has been extremely challenging\, marked by resilience and accompanied by enormous gifts.\nJanet’s focus has always been Universal; many paths became one as she honored and integrated all the foundational wisdoms of many traditions. Her studies with 150 teachers worldwide and her reading of thousands of books gave her information\, tools\, and many perspectives to learn from.\nIn 1981\, Janet opened her first healing business\, The Whole Foods Cooking School. She taught women how to heal and nourish their families with whole foods nutrition. She also taught tasty ways to prepare healthy meals with pure ingredients.\nThat same year\, Janet began her yoga and meditation studies with the Himalayan Institute. She has always honored this lineage and is happy to bring her work to the Institute.\nSHAMANIC CALLING\n \nIn 1992\, Janet StraightArrow found her Shamanic calling after twenty-five years seeking complete healing of body\, mind\, and spirit. No one was more surprised than herself\, a white woman from New Jersey\, to accept and understand her true Self as a Shaman.\nHer gifts and past-life memories have been continuously awakened since that moment of discovery. Janet experienced many spiritual initiations and energy risings as she continued her deep work with Shamans\, Masters\, Gurus\, and Renowned Teachers.\nIn 1995\, Janet began practicing healing and teaching Shamanism\, Reiki\, and other spiritual healing modalities\, and has offered continuous individual and group healing\, coaching\, and teaching in seven states\, NYC\, and on Zoom. Teaching has been a huge learning experience\, too. She has mentored ongoing groups of students since 1999.\nSoul Shamanism was born in 2003\, when she was introduced to a Siberian Shamanic lineage. She was guided to grow this path into its wholeness\, bridging refined levels of universal wisdom and healing mastery\, along with embodied teachings and accelerated practices.\nTeaching Soul Shamanism for 23 years has allowed the fullness\, ongoing potential\, and profound results to manifest into grounded spiritual experiences in how to live our innate power and truth. Continuous journeys into higher dimensions of healing and wisdom\, from the sixth to the thirteenth\, have been extraordinary.\nJanet has several books in progress\, and more workshops\, training sessions\, and online offerings are being scheduled. Yearly Vision Quest Ceremonies and other unique\, transformative ceremonies and retreats help people deepen their personal journey and live their true selves.\nMore information about Janet\, Be The Medicine\, and Soul Shamanism is available on her website. www.BetheMedicine.com.\n“A retreat with Janet is coming home. Janet’s teachings emerge from a place of unconditional love. You come away with you and your life forever changed. Making a choice to work with Janet is giving yourself the most beautiful gift in the world.” Beth Mund\, Master Healer\, Medium\, Channel\, Author\, was mentored by Janet for several years.\nREGISTRATION \n \nUpon registration\, Janet sends you a 75-minute recording with teachings and practice to prepare you for the weekend. This is a deep-level experience that you can grow with for the rest of your life. \nYou will also need to complete a student form. \nCall Janet for a consult before signing up\, 973-647-2500\, or email \nSign up early and secure your spot with a $250 deposit. Tuition: $625. Final payment $375. by August 1. Class size limited. Join us if there is space in the class after August 1.  \nTuition includes the entire weekend course and one additional night on Zoom. \nHousing Cost $170. Due by August 15.\nTotal cost $795 tuition and housing.\nBring a friend\, and you both receive $50 off tuition.\nA private in-person or Zoom session with Janet is recommended\, but not required\, to help prepare for the weekend.\nZelle 973-647-2500 Janet StraightArrow\nVenmo @janet-straightarrow 973-647-2500\nwww.PayPal.me/JanetStraightArrow\nChecks\, reach out to Janet at 973-647-2500 or Janet@Bethemedicine.com\nPlease reach out to Janet with any questions.
URL:https://bethemedicine.com/event/soul-shamanism-catskills-ny/
LOCATION:Art Farm\, Fawn lane Accord NY\, NY\, United States
CATEGORIES:Advanced Healer,Be Your Own Guru,Breath work,Channeling,Clear Mind,Ego Healing,Energy Medicine,Healing,Healing Circle,Healing for Healers,Intuition,Mindfulness,personal mastery,Self Healing,Shamanism,Soul Shamanism,Spiritual Healing,wisdom
ATTACH;FMTTYPE=image/jpeg:https://bethemedicine.com/wp-content/uploads/2024/02/iStock-183618206.jpeg
ORGANIZER;CN="Janet StraightArrow":MAILTO:Janet@Bethemedicine.com
END:VEVENT
END:VCALENDAR