BEGIN:VCALENDAR
VERSION:2.0
PRODID:-//Be the Medicine - ECPv6.15.20//NONSGML v1.0//EN
CALSCALE:GREGORIAN
METHOD:PUBLISH
X-WR-CALNAME:Be the Medicine
X-ORIGINAL-URL:https://bethemedicine.com
X-WR-CALDESC:Events for Be the Medicine
REFRESH-INTERVAL;VALUE=DURATION:PT1H
X-Robots-Tag:noindex
X-PUBLISHED-TTL:PT1H
BEGIN:VTIMEZONE
TZID:UTC
BEGIN:STANDARD
TZOFFSETFROM:+0000
TZOFFSETTO:+0000
TZNAME:UTC
DTSTART:20250101T000000
END:STANDARD
END:VTIMEZONE
BEGIN:VEVENT
DTSTART;TZID=UTC:20260421T190000
DTEND;TZID=UTC:20260421T210000
DTSTAMP:20260421T012013
CREATED:20260204T175806Z
LAST-MODIFIED:20260204T175912Z
UID:4974-1776798000-1776805200@bethemedicine.com
SUMMARY:Tuesdays Ongoing Soul Shamanism Learning and Healing
DESCRIPTION:Join us every three weeks on Zoom. Open to all who have studied Soul Shamanism with me\, for continued learning\, healing\, and profound experiences. A great community.\n\nSoul Shamanism has grown into an even more profound spiritual practice. In continued work with these territories and in receiving guidance\, healing\, and wisdom from high-level dimensions and timelines\, this divine play-work has taken this practice\, understanding\, and growth to an entirely new level this year.\nGraduates of Soul Shamanism meet every three weeks on Tuesday evenings. The possibilities of this practice and Janet’s ability to assist all in their lives now\, while they learn powerful tools\, are ever-expanding.\n\n\n\n\nA new group. Open to all who have taken Soul Shamanism recently and in the past\nYou continue to heal\, learn\, and grow individually in a community with people from many states on Zoom.\nAfter completing the Soul Shamanism foundational course\, this ongoing class offers spiritual growth\, healing\, ascension\, and experiences of our soul and oneness in the Universe\, among other benefits. \nWe have unique experiences\, healing\, and knowledge of who we are and how to express ourselves authentically. Each class offers deep healing\, learning\, and growth. Join us to enjoy the ongoing journey. Soul Shamanism advanced courses will be scheduled.\nThis program offers continuous new levels of experiences\, practice\, learning\, and healing in ways that are not commonly known. Each class provides profound healing\, a deep connection to oneself and the divine\, peace\, understanding\, and more.\nLove and community have been such a gift to us all. I have brought the most experience and teachings to these groups.\nThis adventure extends beyond many spiritual practices for spiritual growth and healing\, and empowers your work with others.\nJoin us for ongoing learning in this multidimensional practice. New Levels and Dimensions were taught and opened for high-level movement for all.\nMoving through any blocks into wholeness\, health\, happiness\, truth\, beauty\, and light allows your entire life to transform into perfect alignment.\nHigher-level guides\, wisdom\, and healing are immediately present. Each of us who began this series has made significant progress on our journey.\nWe explore new dimensions of ourselves in various realms and find our true nature divine\, with solutions always available.\nExperience new energy levels\, wisdom\, knowledge\, healing\, tools\, and practices within this practice. Join us for as many of these classes as possible for healing and personal spiritual growth.\n \n“I have been in Janet’s Soul Shamanism Ongoing Group for several years\, and these teachings have helped me navigate all aspects of my life by promoting deep personal healing\, clarity\, and vision for what I am co-creating with spirit. The work has changed my life\, and I cannot recommend it enough. KR\nPast students from up to twenty years ago have joined us and found fantastic growth and support in this class. \nPrepay for all classes. \n$110 for two classes every 6 weeks\, or $60. a week. \nZoom link sent upon payment. Please sign up at least the day before to ensure Zoom link. \nSign up with Janet 973-647-2500 Email  \nZelle Janet StraightArrow @ 973-647-2500 \nVenmo @janet-straightarrow 973-647-2500 \nOr use PayPal  http://www.Paypal.me/janetstraightarrow \nPlease send me checks a week in advance. Ask for details. \nONGOING STUDENT TESTIMONIAL. Janet brings a rare blend of grounded wisdom and lightness to her teachings. She makes the deep work feel accessible and real\, never too heavy or too precious. She doesn’t lead from a pedestal — she walks with you. Her presence is steady\, spacious\, and refreshingly human. \nThrough her Soul Shamanism practices — which blend guided journeys\, spiritual mentorship\, and energy alignment — I’ve learned to return to my center again and again. Her work is rooted\, clear\, and practical. Over the years\, her teachings have become a companion to all the modalities I work with — not the backbone\, but a trusted ally. And to me. \nHer support has reminded me again and again of my own agency — the power I hold to welcome\, release\, and return to what’s true. I’ve come home to myself through this work many times — with more clarity about the role I play in my own life\, and the love I want to lead with. With deep gratitude\, Jocelyn \nSOUL SHAMANISM NOTES FOR STUDENTS  \n \nAs I work with all of you\, I find there is more to help you discover your true self and mind. \nI am writing a Playbook for the practice. Here are some notes below to remember and begin.\nIN JOY! \nDiscerning truth from lies is tricky\, as they all sound like our own voice.  \nIn creating our reality in our daily life\, we use methods that have kept us safe as children. In working in divine realms\, we purify the stories and discover the truth\, which frees us on all levels of our being.   \nThe reason I start with the Monkey Mind teachings and breaths is manifold. \n\nImmediately\, you begin to clear energy in your mind\, body\, and all energy bodies that have been added to your true nature and create confusion.\nWhen we do this breath\, we dismiss the energy of the thoughts that control us.\nDropping into our quiet center\, we can finally hear the voice of our inner wisdom\, our soul.\nThe ego part that thinks that we are in control is what interferes.\n Proper control is when we allow the ego to align with our soul.\nWhen we recognize that these are not our thoughts\, our truth\, or what we desire\, we can choose to begin making lifelong changes.\nNotice what throws you off track: a key phrase is “a part of me” does not want to take care of me or do the correct thing.\n\nTHIS IS NOT YOU! Parts that work against us are the interfering energies. \n\nSo much of our personality takes doubt and disempowering thoughts for granted.\nThe reason I say zero tolerance\, or no B.S.\, is to help us stop playing limited and small.\nIt is a practice to stop accepting less than who we are.\nThe soul knows all.\nWhen we have a voice of doubt\, or putting us in our place\, and limiting us with reasons and excuses\, it’s all B.S.\nWe practice this to know the truth of our souls.\nThis is also a profound spiritual practice to be fully in your authentic self\, personality\, and soul.\nAs we align with the divine\, clarity and peace arise within.\nOur lake is a real space and always in us\, and us. \nAnything that blocks us from this can be cleared.\nThe universal law is that when we are 100% clear and free of doubt\, and command change and energy out\, it has to leave immediately.\nTenacity. Confidence. Practice.\nOur lake is our inner space in higher dimensions\, always ours to access and work with.\nThis is the most profound spiritual Shamanic practice I know for accomplishing healing and gaining knowledge on all levels.\nWe access our inner net that knows all.\nEvery part of the teachings and experience is a journey.\n\nComing back to the breath and practicing it throughout the day is key. \nThis is not just another breathing practice; it awakens us to see and feel the truth of who we are. \nThe thoughts we clear are the ones controlling our lives. \nWE CLEAR REAL ENERGY OF TRAUMA AND ALL WE HAVE CARRIED THAT INTERFERES WITH OUR TRUE SELF. \nAs we no longer listen\, follow\, analyze\, or talk to them\, we are free to release the energy\, patterns\, and beliefs that have brought them to us in the beginning and since. \nAs we stop tolerating not knowing\, the knowing is awaiting our attention. \nGetting out of our minds and into our souls is subtle\, and as we continue this practice\, it becomes clearer and easier.  \nA couple of questions come to me as I work with us all. \nWhy do we so easily believe negative beliefs instead of embracing the higher positive vibrations and truth? \nOne reason is that it is the way we have been socialized\, and how our ego has adapted in all areas of our lives. \nHaving good boundaries and discernment takes practice. We are breaking through illusions to truth. \nYou can feel it in your energy. \nYou also say protective sayings in your head or out loud. \nIt will be okay. \nIt’s alright.  \nIt’s just the way I am. \nIN THIS PRACTICE. We learn to go within to our higher self\, soul\, and twin\, and to know the truth. \nIt is a practice to trust and know what we know. \nAs soon as we buffer truth and experience with kind of\, sort of\, maybe\, I think\, or like\, we are entertaining fear. \nTo say what we mean\, and mean what we say\, is an essential learning curve and practice for all. \nNo doubt. No fear. No judgment or blame. \nPractice this in your everyday life. \nHONOR This is my experience\, choice\, decision\, and action. \nBeing our own advocate is imperative. \nThe universe works with us\, calling for what we want. \nI want Clarity. Purpose. Healing. Wisdom. Truth……I want to know my authentic Self.  \nSurrendering to our highest and best allows things to happen\, doors to open\, movement\, and action.  \nWE BEGIN TO HAVE A clear path open to us. \nJoin us at the next level of classes\, where we are experiencing amazing healing and life-changing connections. \nAlways in Love\, Janet StraightArrow 973-647-2500 \n  \n 
URL:https://bethemedicine.com/event/new-ongoing-soul-shamanism/2026-04-21/
LOCATION:Zoom\, 247 North Road\, Chester\, NJ\, 07930\, United States
CATEGORIES:Advanced Healer,Be Your Own Guru,Channeling,Clear Mind,Ego Healing,Energy Medicine,Healing,Healing for Healers,Mindfulness,Ongoing Advanced Course,personal mastery,Soul Shamanism,Spiritual Healing
ATTACH;FMTTYPE=image/jpeg:https://bethemedicine.com/wp-content/uploads/2025/06/iStock-2097461673-scaled.jpeg
ORGANIZER;CN="Janet StraightArrow":MAILTO:Janet@Bethemedicine.com
END:VEVENT
END:VCALENDAR